BEGIN:VCALENDAR
VERSION:2.0
PRODID:-//HyperX Arena Las Vegas - ECPv6.15.20//NONSGML v1.0//EN
CALSCALE:GREGORIAN
METHOD:PUBLISH
X-ORIGINAL-URL:https://hyperxarenalasvegas.com
X-WR-CALDESC:Events for HyperX Arena Las Vegas
REFRESH-INTERVAL;VALUE=DURATION:PT1H
X-Robots-Tag:noindex
X-PUBLISHED-TTL:PT1H
BEGIN:VTIMEZONE
TZID:America/Los_Angeles
BEGIN:DAYLIGHT
TZOFFSETFROM:-0800
TZOFFSETTO:-0700
TZNAME:PDT
DTSTART:20250309T100000
END:DAYLIGHT
BEGIN:STANDARD
TZOFFSETFROM:-0700
TZOFFSETTO:-0800
TZNAME:PST
DTSTART:20251102T090000
END:STANDARD
BEGIN:DAYLIGHT
TZOFFSETFROM:-0800
TZOFFSETTO:-0700
TZNAME:PDT
DTSTART:20260308T100000
END:DAYLIGHT
BEGIN:STANDARD
TZOFFSETFROM:-0700
TZOFFSETTO:-0800
TZNAME:PST
DTSTART:20261101T090000
END:STANDARD
BEGIN:DAYLIGHT
TZOFFSETFROM:-0800
TZOFFSETTO:-0700
TZNAME:PDT
DTSTART:20270314T100000
END:DAYLIGHT
BEGIN:STANDARD
TZOFFSETFROM:-0700
TZOFFSETTO:-0800
TZNAME:PST
DTSTART:20271107T090000
END:STANDARD
END:VTIMEZONE
BEGIN:VEVENT
DTSTART;TZID=America/Los_Angeles:20260419T120000
DTEND;TZID=America/Los_Angeles:20260419T210000
DTSTAMP:20260419T101528
CREATED:20260303T014513Z
LAST-MODIFIED:20260303T014514Z
UID:10002193-1776600000-1776632400@hyperxarenalasvegas.com
SUMMARY:Come In and Play!
DESCRIPTION:
URL:https://hyperxarenalasvegas.com/event/come-in-and-play-62/
LOCATION:HyperX Arena Las Vegas\, 3900 South Las Vegas Boulevard\, Las Vegas\, NV\, 89119\, United States
CATEGORIES:Arena
ATTACH;FMTTYPE=image/jpeg:https://hyperxarenalasvegas.com/wp-content/uploads/HXALV_CalendarGraphics_OPEN.jpg
END:VEVENT
BEGIN:VEVENT
DTSTART;TZID=America/Los_Angeles:20260420T120000
DTEND;TZID=America/Los_Angeles:20260420T210000
DTSTAMP:20260419T101528
CREATED:20260303T015048Z
LAST-MODIFIED:20260303T015050Z
UID:10002194-1776686400-1776718800@hyperxarenalasvegas.com
SUMMARY:Come In and Play!
DESCRIPTION:
URL:https://hyperxarenalasvegas.com/event/come-in-and-play-63/
LOCATION:HyperX Arena Las Vegas\, 3900 South Las Vegas Boulevard\, Las Vegas\, NV\, 89119\, United States
CATEGORIES:Arena
ATTACH;FMTTYPE=image/jpeg:https://hyperxarenalasvegas.com/wp-content/uploads/HXALV_CalendarGraphics_OPEN.jpg
END:VEVENT
BEGIN:VEVENT
DTSTART;TZID=America/Los_Angeles:20260421T120000
DTEND;TZID=America/Los_Angeles:20260421T210000
DTSTAMP:20260419T101528
CREATED:20260303T021605Z
LAST-MODIFIED:20260303T022835Z
UID:10002195-1776772800-1776805200@hyperxarenalasvegas.com
SUMMARY:Arena & Game Lounge Offline
DESCRIPTION:
URL:https://hyperxarenalasvegas.com/event/arena-game-lounge-offline-11/
LOCATION:HyperX Arena Las Vegas\, 3900 South Las Vegas Boulevard\, Las Vegas\, NV\, 89119\, United States
CATEGORIES:Arena
ATTACH;FMTTYPE=image/jpeg:https://hyperxarenalasvegas.com/wp-content/uploads/HXALV_CalendarGraphics_ArenaClosed.jpg
END:VEVENT
BEGIN:VEVENT
DTSTART;TZID=America/Los_Angeles:20260422T120000
DTEND;TZID=America/Los_Angeles:20260422T210000
DTSTAMP:20260419T101528
CREATED:20260303T022209Z
LAST-MODIFIED:20260303T022211Z
UID:10002196-1776859200-1776891600@hyperxarenalasvegas.com
SUMMARY:Arena & Game Lounge Offline
DESCRIPTION:
URL:https://hyperxarenalasvegas.com/event/arena-game-lounge-offline-12/
LOCATION:HyperX Arena Las Vegas\, 3900 South Las Vegas Boulevard\, Las Vegas\, NV\, 89119\, United States
CATEGORIES:Arena
ATTACH;FMTTYPE=image/jpeg:https://hyperxarenalasvegas.com/wp-content/uploads/HXALV_CalendarGraphics_ArenaClosed.jpg
END:VEVENT
BEGIN:VEVENT
DTSTART;TZID=America/Los_Angeles:20260423T120000
DTEND;TZID=America/Los_Angeles:20260423T210000
DTSTAMP:20260419T101528
CREATED:20260303T022431Z
LAST-MODIFIED:20260417T183127Z
UID:10002197-1776945600-1776978000@hyperxarenalasvegas.com
SUMMARY:Game Lounge & Arena Reserved
DESCRIPTION:
URL:https://hyperxarenalasvegas.com/event/game-lounge-open-arena-reserved-67/
LOCATION:HyperX Arena Las Vegas\, 3900 South Las Vegas Boulevard\, Las Vegas\, NV\, 89119\, United States
CATEGORIES:Arena
ATTACH;FMTTYPE=image/jpeg:https://hyperxarenalasvegas.com/wp-content/uploads/HXALV_CalendarGraphics_GameLoungeReservedArenaReserved.jpg
END:VEVENT
BEGIN:VEVENT
DTSTART;TZID=America/Los_Angeles:20260424T120000
DTEND;TZID=America/Los_Angeles:20260424T210000
DTSTAMP:20260419T101528
CREATED:20260303T022757Z
LAST-MODIFIED:20260417T183321Z
UID:10002198-1777032000-1777064400@hyperxarenalasvegas.com
SUMMARY:Game Lounge & Arena Reserved
DESCRIPTION:
URL:https://hyperxarenalasvegas.com/event/come-in-and-play-64/
LOCATION:HyperX Arena Las Vegas\, 3900 South Las Vegas Boulevard\, Las Vegas\, NV\, 89119\, United States
CATEGORIES:Arena
ATTACH;FMTTYPE=image/jpeg:https://hyperxarenalasvegas.com/wp-content/uploads/HXALV_CalendarGraphics_GameLoungeReservedArenaReserved.jpg
END:VEVENT
BEGIN:VEVENT
DTSTART;TZID=America/Los_Angeles:20260425T120000
DTEND;TZID=America/Los_Angeles:20260425T210000
DTSTAMP:20260419T101528
CREATED:20260303T024124Z
LAST-MODIFIED:20260331T231652Z
UID:10002199-1777118400-1777150800@hyperxarenalasvegas.com
SUMMARY:Game Lounge Open & Arena Reserved
DESCRIPTION:
URL:https://hyperxarenalasvegas.com/event/come-in-and-play-65/
LOCATION:HyperX Arena Las Vegas\, 3900 South Las Vegas Boulevard\, Las Vegas\, NV\, 89119\, United States
CATEGORIES:Arena
ATTACH;FMTTYPE=image/jpeg:https://hyperxarenalasvegas.com/wp-content/uploads/HXALV_CalendarGraphics_GameLoungeOpenArenaReserved-10.jpg
END:VEVENT
BEGIN:VEVENT
DTSTART;TZID=America/Los_Angeles:20260426T120000
DTEND;TZID=America/Los_Angeles:20260426T210000
DTSTAMP:20260419T101528
CREATED:20260303T024243Z
LAST-MODIFIED:20260303T024244Z
UID:10002200-1777204800-1777237200@hyperxarenalasvegas.com
SUMMARY:Come In and Play!
DESCRIPTION:
URL:https://hyperxarenalasvegas.com/event/come-in-and-play-66/
LOCATION:HyperX Arena Las Vegas\, 3900 South Las Vegas Boulevard\, Las Vegas\, NV\, 89119\, United States
CATEGORIES:Arena
ATTACH;FMTTYPE=image/jpeg:https://hyperxarenalasvegas.com/wp-content/uploads/HXALV_CalendarGraphics_OPEN.jpg
END:VEVENT
BEGIN:VEVENT
DTSTART;TZID=America/Los_Angeles:20260427T120000
DTEND;TZID=America/Los_Angeles:20260427T210000
DTSTAMP:20260419T101528
CREATED:20260303T024615Z
LAST-MODIFIED:20260303T024617Z
UID:10002201-1777291200-1777323600@hyperxarenalasvegas.com
SUMMARY:Come In and Play!
DESCRIPTION:
URL:https://hyperxarenalasvegas.com/event/come-in-and-play-67/
LOCATION:HyperX Arena Las Vegas\, 3900 South Las Vegas Boulevard\, Las Vegas\, NV\, 89119\, United States
CATEGORIES:Arena
ATTACH;FMTTYPE=image/jpeg:https://hyperxarenalasvegas.com/wp-content/uploads/HXALV_CalendarGraphics_OPEN.jpg
END:VEVENT
BEGIN:VEVENT
DTSTART;TZID=America/Los_Angeles:20260428T120000
DTEND;TZID=America/Los_Angeles:20260428T210000
DTSTAMP:20260419T101528
CREATED:20260303T223806Z
LAST-MODIFIED:20260303T223808Z
UID:10002203-1777377600-1777410000@hyperxarenalasvegas.com
SUMMARY:Arena & Game Lounge Offline
DESCRIPTION:
URL:https://hyperxarenalasvegas.com/event/arena-game-lounge-offline-13/
LOCATION:HyperX Arena Las Vegas\, 3900 South Las Vegas Boulevard\, Las Vegas\, NV\, 89119\, United States
CATEGORIES:Arena
ATTACH;FMTTYPE=image/jpeg:https://hyperxarenalasvegas.com/wp-content/uploads/HXALV_CalendarGraphics_ArenaClosed.jpg
END:VEVENT
BEGIN:VEVENT
DTSTART;TZID=America/Los_Angeles:20260429T120000
DTEND;TZID=America/Los_Angeles:20260429T210000
DTSTAMP:20260419T101528
CREATED:20260303T223853Z
LAST-MODIFIED:20260303T223854Z
UID:10002204-1777464000-1777496400@hyperxarenalasvegas.com
SUMMARY:Arena & Game Lounge Offline
DESCRIPTION:
URL:https://hyperxarenalasvegas.com/event/arena-game-lounge-offline-14/
LOCATION:HyperX Arena Las Vegas\, 3900 South Las Vegas Boulevard\, Las Vegas\, NV\, 89119\, United States
CATEGORIES:Arena
ATTACH;FMTTYPE=image/jpeg:https://hyperxarenalasvegas.com/wp-content/uploads/HXALV_CalendarGraphics_ArenaClosed.jpg
END:VEVENT
BEGIN:VEVENT
DTSTART;TZID=America/Los_Angeles:20260430T120000
DTEND;TZID=America/Los_Angeles:20260430T210000
DTSTAMP:20260419T101528
CREATED:20260303T224011Z
LAST-MODIFIED:20260303T224012Z
UID:10002205-1777550400-1777582800@hyperxarenalasvegas.com
SUMMARY:Game Lounge Open & Arena Reserved
DESCRIPTION:
URL:https://hyperxarenalasvegas.com/event/game-lounge-open-arena-reserved-68/
LOCATION:HyperX Arena Las Vegas\, 3900 South Las Vegas Boulevard\, Las Vegas\, NV\, 89119\, United States
CATEGORIES:Arena
ATTACH;FMTTYPE=image/jpeg:https://hyperxarenalasvegas.com/wp-content/uploads/HXALV_CalendarGraphics_GameLoungeOpenArenaReserved-10.jpg
END:VEVENT
END:VCALENDAR