BEGIN:VCALENDAR
VERSION:2.0
PRODID:-//HyperX Arena Las Vegas - ECPv6.15.20//NONSGML v1.0//EN
CALSCALE:GREGORIAN
METHOD:PUBLISH
X-WR-CALNAME:HyperX Arena Las Vegas
X-ORIGINAL-URL:https://hyperxarenalasvegas.com
X-WR-CALDESC:Events for HyperX Arena Las Vegas
REFRESH-INTERVAL;VALUE=DURATION:PT1H
X-Robots-Tag:noindex
X-PUBLISHED-TTL:PT1H
BEGIN:VTIMEZONE
TZID:America/Los_Angeles
BEGIN:DAYLIGHT
TZOFFSETFROM:-0800
TZOFFSETTO:-0700
TZNAME:PDT
DTSTART:20240310T100000
END:DAYLIGHT
BEGIN:STANDARD
TZOFFSETFROM:-0700
TZOFFSETTO:-0800
TZNAME:PST
DTSTART:20241103T090000
END:STANDARD
BEGIN:DAYLIGHT
TZOFFSETFROM:-0800
TZOFFSETTO:-0700
TZNAME:PDT
DTSTART:20250309T100000
END:DAYLIGHT
BEGIN:STANDARD
TZOFFSETFROM:-0700
TZOFFSETTO:-0800
TZNAME:PST
DTSTART:20251102T090000
END:STANDARD
BEGIN:DAYLIGHT
TZOFFSETFROM:-0800
TZOFFSETTO:-0700
TZNAME:PDT
DTSTART:20260308T100000
END:DAYLIGHT
BEGIN:STANDARD
TZOFFSETFROM:-0700
TZOFFSETTO:-0800
TZNAME:PST
DTSTART:20261101T090000
END:STANDARD
END:VTIMEZONE
BEGIN:VEVENT
DTSTART;TZID=America/Los_Angeles:20250804T180000
DTEND;TZID=America/Los_Angeles:20250804T210000
DTSTAMP:20260423T043337
CREATED:20250722T235127Z
LAST-MODIFIED:20250722T235450Z
UID:10001860-1754330400-1754341200@hyperxarenalasvegas.com
SUMMARY:WMT Mahjong Social
DESCRIPTION:WEEKLY MAHJONG SOCIAL\n			August 4\n	  @\n6:00 pm\n	  –\n9:00 pm \nJoin us for our beginner-friendly weekly Mahjong Socials – the first of many Guangdong Style Mahjong Socials every Monday at the HyperX Arena Las Vegas!\nPlay Mahjong Casually \nEvery Monday 6PM – 9PM \nFree Parking (3 hours or less with NV ID) \n					\n									VIEW UPCOMING MAHJONG SOCIALS\n					 \n\n			\n		HyperX Arena Las Vegas			\n	\n\n3900 South Las Vegas Boulevard\n		\n		Las Vegas\,\n	NV\n	89119\n	United States\n\n\n	+ Google Map
URL:https://hyperxarenalasvegas.com/event/wmt-mahjong-social-12/
LOCATION:HyperX Arena Las Vegas\, 3900 South Las Vegas Boulevard\, Las Vegas\, NV\, 89119\, United States
CATEGORIES:Weekly Mahjong
ATTACH;FMTTYPE=image/jpeg:https://hyperxarenalasvegas.com/wp-content/uploads/AGAE_WMT_GeneralMahjong_1920x1080-1.jpg
END:VEVENT
END:VCALENDAR