BEGIN:VCALENDAR
VERSION:2.0
PRODID:-//HyperX Arena Las Vegas - ECPv6.15.20//NONSGML v1.0//EN
CALSCALE:GREGORIAN
METHOD:PUBLISH
X-ORIGINAL-URL:https://hyperxarenalasvegas.com
X-WR-CALDESC:Events for HyperX Arena Las Vegas
REFRESH-INTERVAL;VALUE=DURATION:PT1H
X-Robots-Tag:noindex
X-PUBLISHED-TTL:PT1H
BEGIN:VTIMEZONE
TZID:America/Los_Angeles
BEGIN:DAYLIGHT
TZOFFSETFROM:-0800
TZOFFSETTO:-0700
TZNAME:PDT
DTSTART:20240310T100000
END:DAYLIGHT
BEGIN:STANDARD
TZOFFSETFROM:-0700
TZOFFSETTO:-0800
TZNAME:PST
DTSTART:20241103T090000
END:STANDARD
BEGIN:DAYLIGHT
TZOFFSETFROM:-0800
TZOFFSETTO:-0700
TZNAME:PDT
DTSTART:20250309T100000
END:DAYLIGHT
BEGIN:STANDARD
TZOFFSETFROM:-0700
TZOFFSETTO:-0800
TZNAME:PST
DTSTART:20251102T090000
END:STANDARD
BEGIN:DAYLIGHT
TZOFFSETFROM:-0800
TZOFFSETTO:-0700
TZNAME:PDT
DTSTART:20260308T100000
END:DAYLIGHT
BEGIN:STANDARD
TZOFFSETFROM:-0700
TZOFFSETTO:-0800
TZNAME:PST
DTSTART:20261101T090000
END:STANDARD
END:VTIMEZONE
BEGIN:VEVENT
DTSTART;TZID=America/Los_Angeles:20250805T120000
DTEND;TZID=America/Los_Angeles:20250805T210000
DTSTAMP:20260423T030250
CREATED:20250722T235826Z
LAST-MODIFIED:20250722T235827Z
UID:10001861-1754395200-1754427600@hyperxarenalasvegas.com
SUMMARY:Game Lounge Open & Arena Reserved
DESCRIPTION:
URL:https://hyperxarenalasvegas.com/event/game-lounge-open-arena-reserved-18/
LOCATION:HyperX Arena Las Vegas\, 3900 South Las Vegas Boulevard\, Las Vegas\, NV\, 89119\, United States
CATEGORIES:Arena
ATTACH;FMTTYPE=image/jpeg:https://hyperxarenalasvegas.com/wp-content/uploads/HXALV_CalendarGraphics_GameLoungeOpenArenaReserved-10.jpg
END:VEVENT
BEGIN:VEVENT
DTSTART;TZID=America/Los_Angeles:20250805T140000
DTEND;TZID=America/Los_Angeles:20250805T150000
DTSTAMP:20260423T030250
CREATED:20250723T230238Z
LAST-MODIFIED:20250723T230252Z
UID:10001889-1754402400-1754406000@hyperxarenalasvegas.com
SUMMARY:[NEW EPISODE] CQC: Close Quarter Combat
DESCRIPTION:CQC: CLOSE QUARTERS COMBAT\nAn episodic Call of Duty series where the competition is as real as the tension. Each episode pits players with something to prove against each other in high-stakes\, high-heat gameplay. It’s fast-paced\, gritty\, and packed with personality—where trash talk meets tactical skill\, and every match is a chance to earn respect or go down swinging. \n					\n									NEW EPISODE COMING SOON!
URL:https://hyperxarenalasvegas.com/event/new-episode-cqc-close-quarter-combat-2/
LOCATION:HyperX Arena Las Vegas\, 3900 South Las Vegas Boulevard\, Las Vegas\, NV\, 89119\, United States
CATEGORIES:CQC Close Quarter Combat
ATTACH;FMTTYPE=image/jpeg:https://hyperxarenalasvegas.com/wp-content/uploads/HXALV_CQC_WebPoster_1920x1080.jpg
END:VEVENT
END:VCALENDAR