BEGIN:VCALENDAR
VERSION:2.0
PRODID:-//HyperX Arena Las Vegas - ECPv6.15.20//NONSGML v1.0//EN
CALSCALE:GREGORIAN
METHOD:PUBLISH
X-ORIGINAL-URL:https://hyperxarenalasvegas.com
X-WR-CALDESC:Events for HyperX Arena Las Vegas
REFRESH-INTERVAL;VALUE=DURATION:PT1H
X-Robots-Tag:noindex
X-PUBLISHED-TTL:PT1H
BEGIN:VTIMEZONE
TZID:America/Los_Angeles
BEGIN:DAYLIGHT
TZOFFSETFROM:-0800
TZOFFSETTO:-0700
TZNAME:PDT
DTSTART:20240310T100000
END:DAYLIGHT
BEGIN:STANDARD
TZOFFSETFROM:-0700
TZOFFSETTO:-0800
TZNAME:PST
DTSTART:20241103T090000
END:STANDARD
BEGIN:DAYLIGHT
TZOFFSETFROM:-0800
TZOFFSETTO:-0700
TZNAME:PDT
DTSTART:20250309T100000
END:DAYLIGHT
BEGIN:STANDARD
TZOFFSETFROM:-0700
TZOFFSETTO:-0800
TZNAME:PST
DTSTART:20251102T090000
END:STANDARD
BEGIN:DAYLIGHT
TZOFFSETFROM:-0800
TZOFFSETTO:-0700
TZNAME:PDT
DTSTART:20260308T100000
END:DAYLIGHT
BEGIN:STANDARD
TZOFFSETFROM:-0700
TZOFFSETTO:-0800
TZNAME:PST
DTSTART:20261101T090000
END:STANDARD
END:VTIMEZONE
BEGIN:VEVENT
DTSTART;TZID=America/Los_Angeles:20250808T170000
DTEND;TZID=America/Los_Angeles:20250808T220000
DTSTAMP:20260423T043408
CREATED:20250723T191222Z
LAST-MODIFIED:20250809T033036Z
UID:10001867-1754672400-1754690400@hyperxarenalasvegas.com
SUMMARY:Frags #163 Back to School Duos
DESCRIPTION:FRAGS #163 BACK TO SCHOOL DUOS\n			August 8\n	  @\n5:00 pm\n	  –\n10:00 pm \n\n			\n		HyperX Arena Las Vegas			\n	\n\n3900 South Las Vegas Boulevard\n		\n		Las Vegas\,\n	NV\n	89119\n	United States\n\n\n	+ Google Map \n\n					\n						\n	 \n\n\n\n					\n									Register Now!\n					 \n*TOP 5 TEAM WINNERS ARE REQUIRED TO STAY RIGHT AFTER THE TOURNAMENT ENDS TO TAKE WINNER PHOTOS \nCheck-In Opens: 5:00pm \nCheck-In Closes: 6:00pm \nTournament Begins (approx.): 6:15pm \nRegistration will be capped at 25 Teams (50 Players) \nRegistration Fee Online: $60/Team // $30 per Player \nRegistration Fee At the Door: $70/Team // $35 per Player \n   \n\nAll teams compete in up to five (5) games of Build Duos\nCustom matchmaking key will be provided by TO\nIn each game\, teams earn points based on placement and eliminations\nA team’s total tournament score will be the cumulative score of all five of their games.\nTiebreaker Rules\n\nTies in total points will be broken by the following tiebreaker hierarchy\, in order:\n\nTotal Victory Royales\nTotal Eliminations\nPlacement in the final Game of the Tournament\n\n\n\n\n\n     \n\n\n\n\nPlacement/Criteria (per Game) \n\n\nTotal Points Awarded \n\n\n\n\nVictory Royale \n\n\n20 \n\n\n\n\n2nd \n\n\n15 \n\n\n\n\n3rd \n\n\n12 \n\n\n\n\n4th \n\n\n10 \n\n\n\n\n5th \n\n\n9 \n\n\n\n\n6th \n\n\n8 \n\n\n\n\n7th \n\n\n7 \n\n\n\n\n8th \n\n\n6 \n\n\n\n\n9th-10th \n\n\n5 \n\n\n\n\n11th-12th \n\n\n4 \n\n\n\n\n13th-15th \n\n\n3 \n\n\n\n\n16th-20th \n\n\n2 \n\n\n\n\nPer Elimination \n\n\n+1 Point \n\n\n\n\n     \nPrizing will be awarded based on the standings after all games are played. \n  \n\n\n\nPlacement\nPRIZE (per Team)\nPRIZE (per Player)\n\n\n\n\n1st\n$400\n$200\n\n\n2nd\n$200\n$100\n\n\n3rd\n$160\n$80\n\n\n4th\n$140\n$70\n\n\n5th\n$100\n$50\n\n\n\n  \n					\n									Register Now!\n					 \nJoin our discord to interact with our esports team directly! – https://discord.com/invite/alliedesports \n\nMessage anyone with the [AE] in their name!\n\nWhen joining our discord\, please visit the assign role channel and select role for you favorite games to know when we’re doing a gaming event for your favorite game!
URL:https://hyperxarenalasvegas.com/event/frags-163-back-to-school-duos/
LOCATION:HyperX Arena Las Vegas\, 3900 South Las Vegas Boulevard\, Las Vegas\, NV\, 89119\, United States
CATEGORIES:Frags
ATTACH;FMTTYPE=image/jpeg:https://hyperxarenalasvegas.com/wp-content/uploads/frags-feat-fortnite-hyperx-arena.jpg
END:VEVENT
END:VCALENDAR