BEGIN:VCALENDAR
VERSION:2.0
PRODID:-//HyperX Arena Las Vegas - ECPv6.15.20//NONSGML v1.0//EN
CALSCALE:GREGORIAN
METHOD:PUBLISH
X-WR-CALNAME:HyperX Arena Las Vegas
X-ORIGINAL-URL:https://hyperxarenalasvegas.com
X-WR-CALDESC:Events for HyperX Arena Las Vegas
REFRESH-INTERVAL;VALUE=DURATION:PT1H
X-Robots-Tag:noindex
X-PUBLISHED-TTL:PT1H
BEGIN:VTIMEZONE
TZID:America/Los_Angeles
BEGIN:DAYLIGHT
TZOFFSETFROM:-0800
TZOFFSETTO:-0700
TZNAME:PDT
DTSTART:20240310T100000
END:DAYLIGHT
BEGIN:STANDARD
TZOFFSETFROM:-0700
TZOFFSETTO:-0800
TZNAME:PST
DTSTART:20241103T090000
END:STANDARD
BEGIN:DAYLIGHT
TZOFFSETFROM:-0800
TZOFFSETTO:-0700
TZNAME:PDT
DTSTART:20250309T100000
END:DAYLIGHT
BEGIN:STANDARD
TZOFFSETFROM:-0700
TZOFFSETTO:-0800
TZNAME:PST
DTSTART:20251102T090000
END:STANDARD
BEGIN:DAYLIGHT
TZOFFSETFROM:-0800
TZOFFSETTO:-0700
TZNAME:PDT
DTSTART:20260308T100000
END:DAYLIGHT
BEGIN:STANDARD
TZOFFSETFROM:-0700
TZOFFSETTO:-0800
TZNAME:PST
DTSTART:20261101T090000
END:STANDARD
END:VTIMEZONE
BEGIN:VEVENT
DTSTART;TZID=America/Los_Angeles:20250810T100000
DTEND;TZID=America/Los_Angeles:20250810T210000
DTSTAMP:20260423T073241
CREATED:20250729T193239Z
LAST-MODIFIED:20250729T210613Z
UID:10001922-1754820000-1754859600@hyperxarenalasvegas.com
SUMMARY:Super Fan Sundays!
DESCRIPTION:Watch your favorite sports teams\, game all day\, enjoy food & drink all day!\nJoin us at the HyperX Arena and watch your favorite sports on our huge LED screens! Food & drinks available all day. Try out our professional gaming pcs available for game time all day. \nDoors Open 10am\n\n			\n		HyperX Arena Las Vegas			\n	\n\n3900 South Las Vegas Boulevard\n		\n		Las Vegas\,\n	NV\n	89119\n	United States\n\n\n	+ Google Map
URL:https://hyperxarenalasvegas.com/event/super-fan-sundays/
LOCATION:HyperX Arena Las Vegas\, 3900 South Las Vegas Boulevard\, Las Vegas\, NV\, 89119\, United States
CATEGORIES:Sports Sunday
ATTACH;FMTTYPE=image/jpeg:https://hyperxarenalasvegas.com/wp-content/uploads/SuperFanSundays_Socials_1920x1080.jpg
END:VEVENT
BEGIN:VEVENT
DTSTART;TZID=America/Los_Angeles:20250810T120000
DTEND;TZID=America/Los_Angeles:20250810T130000
DTSTAMP:20260423T073241
CREATED:20250729T234418Z
LAST-MODIFIED:20250729T234633Z
UID:10001935-1754827200-1754830800@hyperxarenalasvegas.com
SUMMARY:The Porterway Podcast
DESCRIPTION:Catch the latest episode of The Porterway Podcast recorded at the HyperX Arena Las Vegas!\nTwo-time welterweight world champion “Showtime” Shawn Porter leads a unique\, entertaining\, and motivational podcast focused on boxing and everything else in the world of sports and entertainment—delivered The PorterWay. \n					\n									Watch on youtube!
URL:https://hyperxarenalasvegas.com/event/the-porterway-podcast-2/
LOCATION:HyperX Arena Las Vegas\, 3900 South Las Vegas Boulevard\, Las Vegas\, NV\, 89119\, United States
CATEGORIES:The Porterway Podcast
ATTACH;FMTTYPE=image/jpeg:https://hyperxarenalasvegas.com/wp-content/uploads/TPWP-General_Image_1920x1080.jpg
END:VEVENT
BEGIN:VEVENT
DTSTART;TZID=America/Los_Angeles:20250810T120000
DTEND;TZID=America/Los_Angeles:20250810T170000
DTSTAMP:20260423T073241
CREATED:20250723T183044Z
LAST-MODIFIED:20250809T185826Z
UID:10001865-1754827200-1754845200@hyperxarenalasvegas.com
SUMMARY:Infinite Clash ft. Marvel Rivals #10
DESCRIPTION:INFINITE CLASH FT. MARVEL RIVALS #10\nSOLOS MIX N MATCH\n			August 10\n	  @\n12:00 pm\n	  –\n5:00 pm \n\n			\n		HyperX Arena Las Vegas			\n	\n\n3900 South Las Vegas Boulevard\n		\n		Las Vegas\,\n	NV\n	89119\n	United States\n\n\n	+ Google Map \n\n					\n						\n	 \n\n\n\n					\n									Register Now!\n					 \n  \nThe HyperX Arena is hosting a Marvel Rivals tournament! Join this event if you’re looking to:\n\nBefriend others who share a thirst for competition!\nRecruit new teammates\n\n*TOP TEAM (6) WINNERS ARE REQUIRED TO STAY RIGHT AFTER THE TOURNAMENT ENDS TO TAKE WINNER PHOTOS \n  \n Registration\nOnline: $10 \nAt the Door: $13 \nSchedule\n\nEvent Check-In Opens: 12:00 PM\nEvent Check-In Closes: 15 minutes before the tournament begins\nOpen PC practice: Runs until brackets begin; begins again when stations are no longer for tournament use\n\n\n \n\n_______________________________________________________________________________________________________________________________________________ \n  \nPrize Pool Distribution \nAll player’s registration fees will be contributed to the prize pool. One team of 6 will take home the top prize! \n  \n________________________________________________________________________________________________________________________________________Join our discord to interact with our esports team directly! – https://discord.com/invite/alliedesports \n\nMessage anyone with the [AE] in their name!\n\nWhen joining our discord\, please visit the assign role channel and select role for you favorite games to know when we’re doing a gaming event for your favorite game! \n					\n									Register Now!
URL:https://hyperxarenalasvegas.com/event/infinite-clash-ft-marvel-rivals-10/
LOCATION:HyperX Arena Las Vegas\, 3900 South Las Vegas Boulevard\, Las Vegas\, NV\, 89119\, United States
CATEGORIES:Infinite Clash
ATTACH;FMTTYPE=image/jpeg:https://hyperxarenalasvegas.com/wp-content/uploads/HXALV_InfiniteClash_General_1920x1080-2.jpg
END:VEVENT
BEGIN:VEVENT
DTSTART;TZID=America/Los_Angeles:20250810T143000
DTEND;TZID=America/Los_Angeles:20250810T153000
DTSTAMP:20260423T073241
CREATED:20250729T213243Z
LAST-MODIFIED:20250729T220156Z
UID:10001923-1754836200-1754839800@hyperxarenalasvegas.com
SUMMARY:VRS: Versus!
DESCRIPTION:Go Head-to-head against sports icons!\nAfter the game ends\, come to the arena and battle it out in 1v1s on Madden\, 2K\, FC25\, and more against sports icons. Every Sunday at the HyperX Arena at 2:30PM PST! \n					\n									watch live on our twitch channel!
URL:https://hyperxarenalasvegas.com/event/vrs-versus/
LOCATION:HyperX Arena Las Vegas\, 3900 South Las Vegas Boulevard\, Las Vegas\, NV\, 89119\, United States
CATEGORIES:VRS Versus
ATTACH;FMTTYPE=image/jpeg:https://hyperxarenalasvegas.com/wp-content/uploads/HXALV_VRS_General_1920x1080-2.jpg
END:VEVENT
END:VCALENDAR