BEGIN:VCALENDAR
VERSION:2.0
PRODID:-//HyperX Arena Las Vegas - ECPv6.15.20//NONSGML v1.0//EN
CALSCALE:GREGORIAN
METHOD:PUBLISH
X-WR-CALNAME:HyperX Arena Las Vegas
X-ORIGINAL-URL:https://hyperxarenalasvegas.com
X-WR-CALDESC:Events for HyperX Arena Las Vegas
REFRESH-INTERVAL;VALUE=DURATION:PT1H
X-Robots-Tag:noindex
X-PUBLISHED-TTL:PT1H
BEGIN:VTIMEZONE
TZID:America/Los_Angeles
BEGIN:DAYLIGHT
TZOFFSETFROM:-0800
TZOFFSETTO:-0700
TZNAME:PDT
DTSTART:20250309T100000
END:DAYLIGHT
BEGIN:STANDARD
TZOFFSETFROM:-0700
TZOFFSETTO:-0800
TZNAME:PST
DTSTART:20251102T090000
END:STANDARD
BEGIN:DAYLIGHT
TZOFFSETFROM:-0800
TZOFFSETTO:-0700
TZNAME:PDT
DTSTART:20260308T100000
END:DAYLIGHT
BEGIN:STANDARD
TZOFFSETFROM:-0700
TZOFFSETTO:-0800
TZNAME:PST
DTSTART:20261101T090000
END:STANDARD
BEGIN:DAYLIGHT
TZOFFSETFROM:-0800
TZOFFSETTO:-0700
TZNAME:PDT
DTSTART:20270314T100000
END:DAYLIGHT
BEGIN:STANDARD
TZOFFSETFROM:-0700
TZOFFSETTO:-0800
TZNAME:PST
DTSTART:20271107T090000
END:STANDARD
END:VTIMEZONE
BEGIN:VEVENT
DTSTART;TZID=America/Los_Angeles:20260506T120000
DTEND;TZID=America/Los_Angeles:20260506T210000
DTSTAMP:20260419T125851
CREATED:20260407T001930Z
LAST-MODIFIED:20260407T001933Z
UID:10002211-1778068800-1778101200@hyperxarenalasvegas.com
SUMMARY:Arena & Game Lounge Offline
DESCRIPTION:CQC: CLOSE QUARTERS COMBAT				\n				\n				\n				\n									An episodic Call of Duty series where the competition is as real as the tension. Each episode pits players with something to prove against each other in high-stakes\, high-heat gameplay. It’s fast-paced\, gritty\, and packed with personality—where trash talk meets tactical skill\, and every match is a chance to earn respect or go down swinging. 								\n				\n				\n				\n									\n					\n						\n									Watch on YouTube!
URL:https://hyperxarenalasvegas.com/event/arena-game-lounge-offline-16/
LOCATION:HyperX Arena Las Vegas\, 3900 South Las Vegas Boulevard\, Las Vegas\, NV\, 89119\, United States
CATEGORIES:Arena
ATTACH;FMTTYPE=image/jpeg:https://hyperxarenalasvegas.com/wp-content/uploads/HXALV_CalendarGraphics_ArenaClosed.jpg
END:VEVENT
BEGIN:VEVENT
DTSTART;TZID=America/Los_Angeles:20260507T120000
DTEND;TZID=America/Los_Angeles:20260507T210000
DTSTAMP:20260419T125851
CREATED:20260407T190827Z
LAST-MODIFIED:20260413T192315Z
UID:10002212-1778155200-1778187600@hyperxarenalasvegas.com
SUMMARY:Come In and Play! CCSD Teacher Appreciation Week
DESCRIPTION:CQC: CLOSE QUARTERS COMBAT				\n				\n				\n				\n									An episodic Call of Duty series where the competition is as real as the tension. Each episode pits players with something to prove against each other in high-stakes\, high-heat gameplay. It’s fast-paced\, gritty\, and packed with personality—where trash talk meets tactical skill\, and every match is a chance to earn respect or go down swinging. 								\n				\n				\n				\n									\n					\n						\n									Watch on YouTube!
URL:https://hyperxarenalasvegas.com/event/come-in-and-play-69/
LOCATION:HyperX Arena Las Vegas\, 3900 South Las Vegas Boulevard\, Las Vegas\, NV\, 89119\, United States
CATEGORIES:Special Events
ATTACH;FMTTYPE=image/jpeg:https://hyperxarenalasvegas.com/wp-content/uploads/HXALV_TeacherAppreciationThumbnail_1920x1080.jpg
END:VEVENT
BEGIN:VEVENT
DTSTART;TZID=America/Los_Angeles:20260508T120000
DTEND;TZID=America/Los_Angeles:20260508T210000
DTSTAMP:20260419T125851
CREATED:20260407T192909Z
LAST-MODIFIED:20260413T192511Z
UID:10002213-1778241600-1778274000@hyperxarenalasvegas.com
SUMMARY:Come In and Play! CCSD Teacher Appreciation Week
DESCRIPTION:CQC: CLOSE QUARTERS COMBAT				\n				\n				\n				\n									An episodic Call of Duty series where the competition is as real as the tension. Each episode pits players with something to prove against each other in high-stakes\, high-heat gameplay. It’s fast-paced\, gritty\, and packed with personality—where trash talk meets tactical skill\, and every match is a chance to earn respect or go down swinging. 								\n				\n				\n				\n									\n					\n						\n									Watch on YouTube!
URL:https://hyperxarenalasvegas.com/event/come-in-and-play-70/
LOCATION:HyperX Arena Las Vegas\, 3900 South Las Vegas Boulevard\, Las Vegas\, NV\, 89119\, United States
CATEGORIES:Special Events
ATTACH;FMTTYPE=image/jpeg:https://hyperxarenalasvegas.com/wp-content/uploads/HXALV_TeacherAppreciationThumbnail_1920x1080.jpg
ORGANIZER;CN="Allied Esports":MAILTO:esportsadmin@alliedesports.com
END:VEVENT
BEGIN:VEVENT
DTSTART;TZID=America/Los_Angeles:20260509T120000
DTEND;TZID=America/Los_Angeles:20260509T210000
DTSTAMP:20260419T125851
CREATED:20260407T193059Z
LAST-MODIFIED:20260413T235804Z
UID:10002214-1778328000-1778360400@hyperxarenalasvegas.com
SUMMARY:Come In and Play! CCSD Teacher Appreciation Week
DESCRIPTION:CQC: CLOSE QUARTERS COMBAT				\n				\n				\n				\n									An episodic Call of Duty series where the competition is as real as the tension. Each episode pits players with something to prove against each other in high-stakes\, high-heat gameplay. It’s fast-paced\, gritty\, and packed with personality—where trash talk meets tactical skill\, and every match is a chance to earn respect or go down swinging. 								\n				\n				\n				\n									\n					\n						\n									Watch on YouTube!
URL:https://hyperxarenalasvegas.com/event/come-in-and-play-71/
LOCATION:HyperX Arena Las Vegas\, 3900 South Las Vegas Boulevard\, Las Vegas\, NV\, 89119\, United States
CATEGORIES:Special Events
ATTACH;FMTTYPE=image/jpeg:https://hyperxarenalasvegas.com/wp-content/uploads/HXALV_TeacherAppreciationThumbnail_1920x1080.jpg
END:VEVENT
BEGIN:VEVENT
DTSTART;TZID=America/Los_Angeles:20260510T120000
DTEND;TZID=America/Los_Angeles:20260510T210000
DTSTAMP:20260419T125851
CREATED:20260407T195057Z
LAST-MODIFIED:20260413T235835Z
UID:10002215-1778414400-1778446800@hyperxarenalasvegas.com
SUMMARY:Come In and Play! CCSD Teacher Appreciation Week
DESCRIPTION:CQC: CLOSE QUARTERS COMBAT				\n				\n				\n				\n									An episodic Call of Duty series where the competition is as real as the tension. Each episode pits players with something to prove against each other in high-stakes\, high-heat gameplay. It’s fast-paced\, gritty\, and packed with personality—where trash talk meets tactical skill\, and every match is a chance to earn respect or go down swinging. 								\n				\n				\n				\n									\n					\n						\n									Watch on YouTube!
URL:https://hyperxarenalasvegas.com/event/come-in-and-play-72/
LOCATION:HyperX Arena Las Vegas\, 3900 South Las Vegas Boulevard\, Las Vegas\, NV\, 89119\, United States
CATEGORIES:Special Events
ATTACH;FMTTYPE=image/jpeg:https://hyperxarenalasvegas.com/wp-content/uploads/HXALV_TeacherAppreciationThumbnail_1920x1080.jpg
END:VEVENT
BEGIN:VEVENT
DTSTART;TZID=America/Los_Angeles:20260511T120000
DTEND;TZID=America/Los_Angeles:20260511T210000
DTSTAMP:20260419T125851
CREATED:20260407T195859Z
LAST-MODIFIED:20260407T195901Z
UID:10002216-1778500800-1778533200@hyperxarenalasvegas.com
SUMMARY:Come In and Play!
DESCRIPTION:CQC: CLOSE QUARTERS COMBAT				\n				\n				\n				\n									An episodic Call of Duty series where the competition is as real as the tension. Each episode pits players with something to prove against each other in high-stakes\, high-heat gameplay. It’s fast-paced\, gritty\, and packed with personality—where trash talk meets tactical skill\, and every match is a chance to earn respect or go down swinging. 								\n				\n				\n				\n									\n					\n						\n									Watch on YouTube!
URL:https://hyperxarenalasvegas.com/event/come-in-and-play-73/
LOCATION:HyperX Arena Las Vegas\, 3900 South Las Vegas Boulevard\, Las Vegas\, NV\, 89119\, United States
CATEGORIES:Arena
ATTACH;FMTTYPE=image/jpeg:https://hyperxarenalasvegas.com/wp-content/uploads/HXALV_CalendarGraphics_OPEN.jpg
END:VEVENT
BEGIN:VEVENT
DTSTART;TZID=America/Los_Angeles:20260512T120000
DTEND;TZID=America/Los_Angeles:20260512T210000
DTSTAMP:20260419T125851
CREATED:20260407T200009Z
LAST-MODIFIED:20260407T200012Z
UID:10002217-1778587200-1778619600@hyperxarenalasvegas.com
SUMMARY:Arena & Game Lounge Offline
DESCRIPTION:CQC: CLOSE QUARTERS COMBAT				\n				\n				\n				\n									An episodic Call of Duty series where the competition is as real as the tension. Each episode pits players with something to prove against each other in high-stakes\, high-heat gameplay. It’s fast-paced\, gritty\, and packed with personality—where trash talk meets tactical skill\, and every match is a chance to earn respect or go down swinging. 								\n				\n				\n				\n									\n					\n						\n									Watch on YouTube!
URL:https://hyperxarenalasvegas.com/event/arena-game-lounge-offline-17/
LOCATION:HyperX Arena Las Vegas\, 3900 South Las Vegas Boulevard\, Las Vegas\, NV\, 89119\, United States
CATEGORIES:Arena
ATTACH;FMTTYPE=image/jpeg:https://hyperxarenalasvegas.com/wp-content/uploads/HXALV_CalendarGraphics_ArenaClosed.jpg
END:VEVENT
BEGIN:VEVENT
DTSTART;TZID=America/Los_Angeles:20260513T120000
DTEND;TZID=America/Los_Angeles:20260513T210000
DTSTAMP:20260419T125851
CREATED:20260407T200404Z
LAST-MODIFIED:20260407T200406Z
UID:10002218-1778673600-1778706000@hyperxarenalasvegas.com
SUMMARY:Arena & Game Lounge Offline
DESCRIPTION:CQC: CLOSE QUARTERS COMBAT				\n				\n				\n				\n									An episodic Call of Duty series where the competition is as real as the tension. Each episode pits players with something to prove against each other in high-stakes\, high-heat gameplay. It’s fast-paced\, gritty\, and packed with personality—where trash talk meets tactical skill\, and every match is a chance to earn respect or go down swinging. 								\n				\n				\n				\n									\n					\n						\n									Watch on YouTube!
URL:https://hyperxarenalasvegas.com/event/arena-game-lounge-offline-18/
LOCATION:NV
CATEGORIES:Arena
ATTACH;FMTTYPE=image/jpeg:https://hyperxarenalasvegas.com/wp-content/uploads/HXALV_CalendarGraphics_ArenaClosed.jpg
END:VEVENT
BEGIN:VEVENT
DTSTART;TZID=America/Los_Angeles:20260514T120000
DTEND;TZID=America/Los_Angeles:20260514T210000
DTSTAMP:20260419T125851
CREATED:20260407T200800Z
LAST-MODIFIED:20260407T200803Z
UID:10002219-1778760000-1778792400@hyperxarenalasvegas.com
SUMMARY:Come In and Play!
DESCRIPTION:CQC: CLOSE QUARTERS COMBAT				\n				\n				\n				\n									An episodic Call of Duty series where the competition is as real as the tension. Each episode pits players with something to prove against each other in high-stakes\, high-heat gameplay. It’s fast-paced\, gritty\, and packed with personality—where trash talk meets tactical skill\, and every match is a chance to earn respect or go down swinging. 								\n				\n				\n				\n									\n					\n						\n									Watch on YouTube!
URL:https://hyperxarenalasvegas.com/event/come-in-and-play-74/
LOCATION:HyperX Arena Las Vegas\, 3900 South Las Vegas Boulevard\, Las Vegas\, NV\, 89119\, United States
CATEGORIES:Arena
ATTACH;FMTTYPE=image/jpeg:https://hyperxarenalasvegas.com/wp-content/uploads/HXALV_CalendarGraphics_OPEN.jpg
END:VEVENT
BEGIN:VEVENT
DTSTART;TZID=America/Los_Angeles:20260515T190000
DTEND;TZID=America/Los_Angeles:20260515T220000
DTSTAMP:20260419T125851
CREATED:20260407T200948Z
LAST-MODIFIED:20260407T200950Z
UID:10002220-1778871600-1778882400@hyperxarenalasvegas.com
SUMMARY:Future Stars of Wrestling
DESCRIPTION:CQC: CLOSE QUARTERS COMBAT				\n				\n				\n				\n									An episodic Call of Duty series where the competition is as real as the tension. Each episode pits players with something to prove against each other in high-stakes\, high-heat gameplay. It’s fast-paced\, gritty\, and packed with personality—where trash talk meets tactical skill\, and every match is a chance to earn respect or go down swinging. 								\n				\n				\n				\n									\n					\n						\n									Watch on YouTube!
URL:https://hyperxarenalasvegas.com/event/future-stars-of-wrestling/
LOCATION:HyperX Arena Las Vegas\, 3900 South Las Vegas Boulevard\, Las Vegas\, NV\, 89119\, United States
CATEGORIES:Special Events
ATTACH;FMTTYPE=image/jpeg:https://hyperxarenalasvegas.com/wp-content/uploads/FSW.jpg
END:VEVENT
BEGIN:VEVENT
DTSTART;TZID=America/Los_Angeles:20260516T120000
DTEND;TZID=America/Los_Angeles:20260516T210000
DTSTAMP:20260419T125851
CREATED:20260407T203702Z
LAST-MODIFIED:20260407T203704Z
UID:10002221-1778932800-1778965200@hyperxarenalasvegas.com
SUMMARY:Come In and Play!
DESCRIPTION:CQC: CLOSE QUARTERS COMBAT				\n				\n				\n				\n									An episodic Call of Duty series where the competition is as real as the tension. Each episode pits players with something to prove against each other in high-stakes\, high-heat gameplay. It’s fast-paced\, gritty\, and packed with personality—where trash talk meets tactical skill\, and every match is a chance to earn respect or go down swinging. 								\n				\n				\n				\n									\n					\n						\n									Watch on YouTube!
URL:https://hyperxarenalasvegas.com/event/come-in-and-play-75/
LOCATION:HyperX Arena Las Vegas\, 3900 South Las Vegas Boulevard\, Las Vegas\, NV\, 89119\, United States
CATEGORIES:Arena
ATTACH;FMTTYPE=image/jpeg:https://hyperxarenalasvegas.com/wp-content/uploads/HXALV_CalendarGraphics_OPEN.jpg
END:VEVENT
BEGIN:VEVENT
DTSTART;TZID=America/Los_Angeles:20260517T120000
DTEND;TZID=America/Los_Angeles:20260517T210000
DTSTAMP:20260419T125851
CREATED:20260407T204541Z
LAST-MODIFIED:20260407T204543Z
UID:10002222-1779019200-1779051600@hyperxarenalasvegas.com
SUMMARY:Come In and Play!
DESCRIPTION:CQC: CLOSE QUARTERS COMBAT				\n				\n				\n				\n									An episodic Call of Duty series where the competition is as real as the tension. Each episode pits players with something to prove against each other in high-stakes\, high-heat gameplay. It’s fast-paced\, gritty\, and packed with personality—where trash talk meets tactical skill\, and every match is a chance to earn respect or go down swinging. 								\n				\n				\n				\n									\n					\n						\n									Watch on YouTube!
URL:https://hyperxarenalasvegas.com/event/come-in-and-play-76/
LOCATION:HyperX Arena Las Vegas\, 3900 South Las Vegas Boulevard\, Las Vegas\, NV\, 89119\, United States
CATEGORIES:Arena
ATTACH;FMTTYPE=image/jpeg:https://hyperxarenalasvegas.com/wp-content/uploads/HXALV_CalendarGraphics_OPEN.jpg
END:VEVENT
BEGIN:VEVENT
DTSTART;TZID=America/Los_Angeles:20260518T120000
DTEND;TZID=America/Los_Angeles:20260518T210000
DTSTAMP:20260419T125851
CREATED:20260407T205324Z
LAST-MODIFIED:20260407T205327Z
UID:10002223-1779105600-1779138000@hyperxarenalasvegas.com
SUMMARY:Come In and Play!
DESCRIPTION:CQC: CLOSE QUARTERS COMBAT				\n				\n				\n				\n									An episodic Call of Duty series where the competition is as real as the tension. Each episode pits players with something to prove against each other in high-stakes\, high-heat gameplay. It’s fast-paced\, gritty\, and packed with personality—where trash talk meets tactical skill\, and every match is a chance to earn respect or go down swinging. 								\n				\n				\n				\n									\n					\n						\n									Watch on YouTube!
URL:https://hyperxarenalasvegas.com/event/come-in-and-play-77/
LOCATION:HyperX Arena Las Vegas\, 3900 South Las Vegas Boulevard\, Las Vegas\, NV\, 89119\, United States
CATEGORIES:Arena
ATTACH;FMTTYPE=image/jpeg:https://hyperxarenalasvegas.com/wp-content/uploads/HXALV_CalendarGraphics_OPEN.jpg
END:VEVENT
BEGIN:VEVENT
DTSTART;TZID=America/Los_Angeles:20260519T120000
DTEND;TZID=America/Los_Angeles:20260519T210000
DTSTAMP:20260419T125851
CREATED:20260407T205406Z
LAST-MODIFIED:20260407T205449Z
UID:10002224-1779192000-1779224400@hyperxarenalasvegas.com
SUMMARY:Arena & Game Lounge Offline
DESCRIPTION:CQC: CLOSE QUARTERS COMBAT				\n				\n				\n				\n									An episodic Call of Duty series where the competition is as real as the tension. Each episode pits players with something to prove against each other in high-stakes\, high-heat gameplay. It’s fast-paced\, gritty\, and packed with personality—where trash talk meets tactical skill\, and every match is a chance to earn respect or go down swinging. 								\n				\n				\n				\n									\n					\n						\n									Watch on YouTube!
URL:https://hyperxarenalasvegas.com/event/arena-game-lounge-offline-19/
LOCATION:HyperX Arena Las Vegas\, 3900 South Las Vegas Boulevard\, Las Vegas\, NV\, 89119\, United States
CATEGORIES:Arena
ATTACH;FMTTYPE=image/jpeg:https://hyperxarenalasvegas.com/wp-content/uploads/HXALV_CalendarGraphics_ArenaClosed.jpg
END:VEVENT
BEGIN:VEVENT
DTSTART;TZID=America/Los_Angeles:20260520T120000
DTEND;TZID=America/Los_Angeles:20260520T210000
DTSTAMP:20260419T125851
CREATED:20260407T205803Z
LAST-MODIFIED:20260407T205806Z
UID:10002225-1779278400-1779310800@hyperxarenalasvegas.com
SUMMARY:Arena & Game Lounge Offline
DESCRIPTION:CQC: CLOSE QUARTERS COMBAT				\n				\n				\n				\n									An episodic Call of Duty series where the competition is as real as the tension. Each episode pits players with something to prove against each other in high-stakes\, high-heat gameplay. It’s fast-paced\, gritty\, and packed with personality—where trash talk meets tactical skill\, and every match is a chance to earn respect or go down swinging. 								\n				\n				\n				\n									\n					\n						\n									Watch on YouTube!
URL:https://hyperxarenalasvegas.com/event/arena-game-lounge-offline-20/
LOCATION:HyperX Arena Las Vegas\, 3900 South Las Vegas Boulevard\, Las Vegas\, NV\, 89119\, United States
CATEGORIES:Arena
ATTACH;FMTTYPE=image/jpeg:https://hyperxarenalasvegas.com/wp-content/uploads/HXALV_CalendarGraphics_ArenaClosed.jpg
END:VEVENT
BEGIN:VEVENT
DTSTART;TZID=America/Los_Angeles:20260521T120000
DTEND;TZID=America/Los_Angeles:20260521T210000
DTSTAMP:20260419T125851
CREATED:20260407T210304Z
LAST-MODIFIED:20260407T210306Z
UID:10002226-1779364800-1779397200@hyperxarenalasvegas.com
SUMMARY:Come In and Play!
DESCRIPTION:CQC: CLOSE QUARTERS COMBAT				\n				\n				\n				\n									An episodic Call of Duty series where the competition is as real as the tension. Each episode pits players with something to prove against each other in high-stakes\, high-heat gameplay. It’s fast-paced\, gritty\, and packed with personality—where trash talk meets tactical skill\, and every match is a chance to earn respect or go down swinging. 								\n				\n				\n				\n									\n					\n						\n									Watch on YouTube!
URL:https://hyperxarenalasvegas.com/event/come-in-and-play-78/
LOCATION:HyperX Arena Las Vegas\, 3900 South Las Vegas Boulevard\, Las Vegas\, NV\, 89119\, United States
CATEGORIES:Arena
ATTACH;FMTTYPE=image/jpeg:https://hyperxarenalasvegas.com/wp-content/uploads/HXALV_CalendarGraphics_OPEN.jpg
END:VEVENT
BEGIN:VEVENT
DTSTART;TZID=America/Los_Angeles:20260522T120000
DTEND;TZID=America/Los_Angeles:20260522T210000
DTSTAMP:20260419T125851
CREATED:20260407T211112Z
LAST-MODIFIED:20260407T211115Z
UID:10002227-1779451200-1779483600@hyperxarenalasvegas.com
SUMMARY:Come In and Play!
DESCRIPTION:CQC: CLOSE QUARTERS COMBAT				\n				\n				\n				\n									An episodic Call of Duty series where the competition is as real as the tension. Each episode pits players with something to prove against each other in high-stakes\, high-heat gameplay. It’s fast-paced\, gritty\, and packed with personality—where trash talk meets tactical skill\, and every match is a chance to earn respect or go down swinging. 								\n				\n				\n				\n									\n					\n						\n									Watch on YouTube!
URL:https://hyperxarenalasvegas.com/event/come-in-and-play-79/
LOCATION:HyperX Arena Las Vegas\, 3900 South Las Vegas Boulevard\, Las Vegas\, NV\, 89119\, United States
CATEGORIES:Arena
ATTACH;FMTTYPE=image/jpeg:https://hyperxarenalasvegas.com/wp-content/uploads/HXALV_CalendarGraphics_OPEN.jpg
END:VEVENT
BEGIN:VEVENT
DTSTART;TZID=America/Los_Angeles:20260523T120000
DTEND;TZID=America/Los_Angeles:20260523T210000
DTSTAMP:20260419T125851
CREATED:20260407T212213Z
LAST-MODIFIED:20260407T212216Z
UID:10002228-1779537600-1779570000@hyperxarenalasvegas.com
SUMMARY:Come In and Play!
DESCRIPTION:CQC: CLOSE QUARTERS COMBAT				\n				\n				\n				\n									An episodic Call of Duty series where the competition is as real as the tension. Each episode pits players with something to prove against each other in high-stakes\, high-heat gameplay. It’s fast-paced\, gritty\, and packed with personality—where trash talk meets tactical skill\, and every match is a chance to earn respect or go down swinging. 								\n				\n				\n				\n									\n					\n						\n									Watch on YouTube!
URL:https://hyperxarenalasvegas.com/event/come-in-and-play-80/
LOCATION:HyperX Arena Las Vegas\, 3900 South Las Vegas Boulevard\, Las Vegas\, NV\, 89119\, United States
CATEGORIES:Arena
ATTACH;FMTTYPE=image/jpeg:https://hyperxarenalasvegas.com/wp-content/uploads/HXALV_CalendarGraphics_OPEN.jpg
END:VEVENT
BEGIN:VEVENT
DTSTART;TZID=America/Los_Angeles:20260524T120000
DTEND;TZID=America/Los_Angeles:20260524T210000
DTSTAMP:20260419T125851
CREATED:20260407T231536Z
LAST-MODIFIED:20260407T231539Z
UID:10002229-1779624000-1779656400@hyperxarenalasvegas.com
SUMMARY:Come In and Play!
DESCRIPTION:CQC: CLOSE QUARTERS COMBAT				\n				\n				\n				\n									An episodic Call of Duty series where the competition is as real as the tension. Each episode pits players with something to prove against each other in high-stakes\, high-heat gameplay. It’s fast-paced\, gritty\, and packed with personality—where trash talk meets tactical skill\, and every match is a chance to earn respect or go down swinging. 								\n				\n				\n				\n									\n					\n						\n									Watch on YouTube!
URL:https://hyperxarenalasvegas.com/event/come-in-and-play-81/
LOCATION:HyperX Arena Las Vegas\, 3900 South Las Vegas Boulevard\, Las Vegas\, NV\, 89119\, United States
CATEGORIES:Arena
ATTACH;FMTTYPE=image/jpeg:https://hyperxarenalasvegas.com/wp-content/uploads/HXALV_CalendarGraphics_OPEN.jpg
END:VEVENT
BEGIN:VEVENT
DTSTART;TZID=America/Los_Angeles:20260525T120000
DTEND;TZID=America/Los_Angeles:20260525T210000
DTSTAMP:20260419T125851
CREATED:20260407T233928Z
LAST-MODIFIED:20260407T233931Z
UID:10002230-1779710400-1779742800@hyperxarenalasvegas.com
SUMMARY:Come In and Play!
DESCRIPTION:CQC: CLOSE QUARTERS COMBAT				\n				\n				\n				\n									An episodic Call of Duty series where the competition is as real as the tension. Each episode pits players with something to prove against each other in high-stakes\, high-heat gameplay. It’s fast-paced\, gritty\, and packed with personality—where trash talk meets tactical skill\, and every match is a chance to earn respect or go down swinging. 								\n				\n				\n				\n									\n					\n						\n									Watch on YouTube!
URL:https://hyperxarenalasvegas.com/event/come-in-and-play-82/
LOCATION:HyperX Arena Las Vegas\, 3900 South Las Vegas Boulevard\, Las Vegas\, NV\, 89119\, United States
CATEGORIES:Arena
ATTACH;FMTTYPE=image/jpeg:https://hyperxarenalasvegas.com/wp-content/uploads/HXALV_CalendarGraphics_OPEN.jpg
END:VEVENT
BEGIN:VEVENT
DTSTART;TZID=America/Los_Angeles:20260526T120000
DTEND;TZID=America/Los_Angeles:20260526T210000
DTSTAMP:20260419T125851
CREATED:20260407T234344Z
LAST-MODIFIED:20260407T234358Z
UID:10002231-1779796800-1779829200@hyperxarenalasvegas.com
SUMMARY:Arena & Game Lounge Offline
DESCRIPTION:CQC: CLOSE QUARTERS COMBAT				\n				\n				\n				\n									An episodic Call of Duty series where the competition is as real as the tension. Each episode pits players with something to prove against each other in high-stakes\, high-heat gameplay. It’s fast-paced\, gritty\, and packed with personality—where trash talk meets tactical skill\, and every match is a chance to earn respect or go down swinging. 								\n				\n				\n				\n									\n					\n						\n									Watch on YouTube!
URL:https://hyperxarenalasvegas.com/event/arena-game-lounge-offline-21/
LOCATION:HyperX Arena Las Vegas\, 3900 South Las Vegas Boulevard\, Las Vegas\, NV\, 89119\, United States
CATEGORIES:Arena
ATTACH;FMTTYPE=image/jpeg:https://hyperxarenalasvegas.com/wp-content/uploads/HXALV_CalendarGraphics_ArenaClosed.jpg
END:VEVENT
BEGIN:VEVENT
DTSTART;TZID=America/Los_Angeles:20260527T120000
DTEND;TZID=America/Los_Angeles:20260527T210000
DTSTAMP:20260419T125851
CREATED:20260409T184127Z
LAST-MODIFIED:20260409T184128Z
UID:10002232-1779883200-1779915600@hyperxarenalasvegas.com
SUMMARY:Arena & Game Lounge Offline
DESCRIPTION:CQC: CLOSE QUARTERS COMBAT				\n				\n				\n				\n									An episodic Call of Duty series where the competition is as real as the tension. Each episode pits players with something to prove against each other in high-stakes\, high-heat gameplay. It’s fast-paced\, gritty\, and packed with personality—where trash talk meets tactical skill\, and every match is a chance to earn respect or go down swinging. 								\n				\n				\n				\n									\n					\n						\n									Watch on YouTube!
URL:https://hyperxarenalasvegas.com/event/arena-game-lounge-offline-22/
LOCATION:HyperX Arena Las Vegas\, 3900 South Las Vegas Boulevard\, Las Vegas\, NV\, 89119\, United States
CATEGORIES:Arena
ATTACH;FMTTYPE=image/jpeg:https://hyperxarenalasvegas.com/wp-content/uploads/HXALV_CalendarGraphics_ArenaClosed.jpg
END:VEVENT
BEGIN:VEVENT
DTSTART;TZID=America/Los_Angeles:20260528T120000
DTEND;TZID=America/Los_Angeles:20260528T210000
DTSTAMP:20260419T125851
CREATED:20260409T185322Z
LAST-MODIFIED:20260409T185324Z
UID:10002233-1779969600-1780002000@hyperxarenalasvegas.com
SUMMARY:Come In and Play!
DESCRIPTION:CQC: CLOSE QUARTERS COMBAT				\n				\n				\n				\n									An episodic Call of Duty series where the competition is as real as the tension. Each episode pits players with something to prove against each other in high-stakes\, high-heat gameplay. It’s fast-paced\, gritty\, and packed with personality—where trash talk meets tactical skill\, and every match is a chance to earn respect or go down swinging. 								\n				\n				\n				\n									\n					\n						\n									Watch on YouTube!
URL:https://hyperxarenalasvegas.com/event/come-in-and-play-83/
LOCATION:HyperX Arena Las Vegas\, 3900 South Las Vegas Boulevard\, Las Vegas\, NV\, 89119\, United States
CATEGORIES:Arena
ATTACH;FMTTYPE=image/jpeg:https://hyperxarenalasvegas.com/wp-content/uploads/HXALV_CalendarGraphics_OPEN.jpg
END:VEVENT
BEGIN:VEVENT
DTSTART;TZID=America/Los_Angeles:20260529T120000
DTEND;TZID=America/Los_Angeles:20260529T210000
DTSTAMP:20260419T125851
CREATED:20260409T185755Z
LAST-MODIFIED:20260409T185756Z
UID:10002234-1780056000-1780088400@hyperxarenalasvegas.com
SUMMARY:Come In and Play!
DESCRIPTION:CQC: CLOSE QUARTERS COMBAT				\n				\n				\n				\n									An episodic Call of Duty series where the competition is as real as the tension. Each episode pits players with something to prove against each other in high-stakes\, high-heat gameplay. It’s fast-paced\, gritty\, and packed with personality—where trash talk meets tactical skill\, and every match is a chance to earn respect or go down swinging. 								\n				\n				\n				\n									\n					\n						\n									Watch on YouTube!
URL:https://hyperxarenalasvegas.com/event/come-in-and-play-84/
LOCATION:HyperX Arena Las Vegas\, 3900 South Las Vegas Boulevard\, Las Vegas\, NV\, 89119\, United States
CATEGORIES:Arena
ATTACH;FMTTYPE=image/jpeg:https://hyperxarenalasvegas.com/wp-content/uploads/HXALV_CalendarGraphics_OPEN.jpg
END:VEVENT
BEGIN:VEVENT
DTSTART;TZID=America/Los_Angeles:20260530T120000
DTEND;TZID=America/Los_Angeles:20260530T210000
DTSTAMP:20260419T125851
CREATED:20260409T185846Z
LAST-MODIFIED:20260409T185848Z
UID:10002235-1780142400-1780174800@hyperxarenalasvegas.com
SUMMARY:Come In and Play!
DESCRIPTION:CQC: CLOSE QUARTERS COMBAT				\n				\n				\n				\n									An episodic Call of Duty series where the competition is as real as the tension. Each episode pits players with something to prove against each other in high-stakes\, high-heat gameplay. It’s fast-paced\, gritty\, and packed with personality—where trash talk meets tactical skill\, and every match is a chance to earn respect or go down swinging. 								\n				\n				\n				\n									\n					\n						\n									Watch on YouTube!
URL:https://hyperxarenalasvegas.com/event/come-in-and-play-85/
LOCATION:HyperX Arena Las Vegas\, 3900 South Las Vegas Boulevard\, Las Vegas\, NV\, 89119\, United States
CATEGORIES:Arena
ATTACH;FMTTYPE=image/jpeg:https://hyperxarenalasvegas.com/wp-content/uploads/HXALV_CalendarGraphics_OPEN.jpg
END:VEVENT
BEGIN:VEVENT
DTSTART;TZID=America/Los_Angeles:20260531T120000
DTEND;TZID=America/Los_Angeles:20260531T210000
DTSTAMP:20260419T125851
CREATED:20260409T190511Z
LAST-MODIFIED:20260409T190513Z
UID:10002236-1780228800-1780261200@hyperxarenalasvegas.com
SUMMARY:Come In and Play!
DESCRIPTION:CQC: CLOSE QUARTERS COMBAT				\n				\n				\n				\n									An episodic Call of Duty series where the competition is as real as the tension. Each episode pits players with something to prove against each other in high-stakes\, high-heat gameplay. It’s fast-paced\, gritty\, and packed with personality—where trash talk meets tactical skill\, and every match is a chance to earn respect or go down swinging. 								\n				\n				\n				\n									\n					\n						\n									Watch on YouTube!
URL:https://hyperxarenalasvegas.com/event/come-in-and-play-86/
LOCATION:HyperX Arena Las Vegas\, 3900 South Las Vegas Boulevard\, Las Vegas\, NV\, 89119\, United States
CATEGORIES:Arena
ATTACH;FMTTYPE=image/jpeg:https://hyperxarenalasvegas.com/wp-content/uploads/HXALV_CalendarGraphics_OPEN.jpg
END:VEVENT
END:VCALENDAR