BEGIN:VCALENDAR
VERSION:2.0
PRODID:-//HyperX Arena Las Vegas - ECPv6.15.20//NONSGML v1.0//EN
CALSCALE:GREGORIAN
METHOD:PUBLISH
X-ORIGINAL-URL:https://hyperxarenalasvegas.com
X-WR-CALDESC:Events for HyperX Arena Las Vegas
REFRESH-INTERVAL;VALUE=DURATION:PT1H
X-Robots-Tag:noindex
X-PUBLISHED-TTL:PT1H
BEGIN:VTIMEZONE
TZID:America/Los_Angeles
BEGIN:DAYLIGHT
TZOFFSETFROM:-0800
TZOFFSETTO:-0700
TZNAME:PDT
DTSTART:20240310T100000
END:DAYLIGHT
BEGIN:STANDARD
TZOFFSETFROM:-0700
TZOFFSETTO:-0800
TZNAME:PST
DTSTART:20241103T090000
END:STANDARD
BEGIN:DAYLIGHT
TZOFFSETFROM:-0800
TZOFFSETTO:-0700
TZNAME:PDT
DTSTART:20250309T100000
END:DAYLIGHT
BEGIN:STANDARD
TZOFFSETFROM:-0700
TZOFFSETTO:-0800
TZNAME:PST
DTSTART:20251102T090000
END:STANDARD
BEGIN:DAYLIGHT
TZOFFSETFROM:-0800
TZOFFSETTO:-0700
TZNAME:PDT
DTSTART:20260308T100000
END:DAYLIGHT
BEGIN:STANDARD
TZOFFSETFROM:-0700
TZOFFSETTO:-0800
TZNAME:PST
DTSTART:20261101T090000
END:STANDARD
END:VTIMEZONE
BEGIN:VEVENT
DTSTART;TZID=America/Los_Angeles:20250802T130000
DTEND;TZID=America/Los_Angeles:20250802T180000
DTSTAMP:20260422T014632
CREATED:20250723T163450Z
LAST-MODIFIED:20250822T185658Z
UID:10001864-1754139600-1754157600@hyperxarenalasvegas.com
SUMMARY:Speedway #247 Mario Kart World Test Drive #4
DESCRIPTION:NEW EPISODE OF USERNAME TAKEN!				\n				\n				\n				\n									Join us for a special episode of Username Taken with the Fantasy Girls! 								\n				\n				\n				\n									\n					\n						\n									WATCH ON YOUTUBE!
URL:https://hyperxarenalasvegas.com/event/speedway-247/
LOCATION:HyperX Arena Las Vegas\, 3900 South Las Vegas Boulevard\, Las Vegas\, NV\, 89119\, United States
CATEGORIES:Speedway
ATTACH;FMTTYPE=image/jpeg:https://hyperxarenalasvegas.com/wp-content/uploads/HXALV_SpeedwayGameNight_General_1920x1080-5.jpg
END:VEVENT
BEGIN:VEVENT
DTSTART;TZID=America/Los_Angeles:20250801T170000
DTEND;TZID=America/Los_Angeles:20250801T220000
DTSTAMP:20260422T014633
CREATED:20250722T233849Z
LAST-MODIFIED:20250801T204016Z
UID:10001859-1754067600-1754085600@hyperxarenalasvegas.com
SUMMARY:Frags Feat Fortnite! #162
DESCRIPTION:NEW EPISODE OF USERNAME TAKEN!				\n				\n				\n				\n									Join us for a special episode of Username Taken with the Fantasy Girls! 								\n				\n				\n				\n									\n					\n						\n									WATCH ON YOUTUBE!
URL:https://hyperxarenalasvegas.com/event/frags-feat-fortnite-162/
LOCATION:NV
CATEGORIES:Frags
ATTACH;FMTTYPE=image/jpeg:https://hyperxarenalasvegas.com/wp-content/uploads/frags-feat-fortnite-hyperx-arena.jpg
END:VEVENT
BEGIN:VEVENT
DTSTART;TZID=America/Los_Angeles:20250731T120000
DTEND;TZID=America/Los_Angeles:20250731T230000
DTSTAMP:20260422T014633
CREATED:20250625T180456Z
LAST-MODIFIED:20250724T190401Z
UID:10001837-1753963200-1754002800@hyperxarenalasvegas.com
SUMMARY:Pre-Evo Casual Play
DESCRIPTION:NEW EPISODE OF USERNAME TAKEN!				\n				\n				\n				\n									Join us for a special episode of Username Taken with the Fantasy Girls! 								\n				\n				\n				\n									\n					\n						\n									WATCH ON YOUTUBE!
URL:https://hyperxarenalasvegas.com/event/evo-pre-local-tournament/
LOCATION:HyperX Arena Las Vegas\, 3900 South Las Vegas Boulevard\, Las Vegas\, NV\, 89119\, United States
CATEGORIES:Arena
ATTACH;FMTTYPE=image/jpeg:https://hyperxarenalasvegas.com/wp-content/uploads/HXALV_PRE-EVO2025_1920x1080.jpg
END:VEVENT
BEGIN:VEVENT
DTSTART;TZID=America/Los_Angeles:20250731T110000
DTEND;TZID=America/Los_Angeles:20250731T120000
DTSTAMP:20260422T014633
CREATED:20250728T225728Z
LAST-MODIFIED:20250728T230203Z
UID:10001910-1753959600-1753963200@hyperxarenalasvegas.com
SUMMARY:[NEW EPISODE] Username Taken with Fantasy
DESCRIPTION:NEW EPISODE OF USERNAME TAKEN!				\n				\n				\n				\n									Join us for a special episode of Username Taken with the Fantasy Girls! 								\n				\n				\n				\n									\n					\n						\n									WATCH ON YOUTUBE!
URL:https://hyperxarenalasvegas.com/event/new-episode-username-taken-with-fantasy/
LOCATION:HyperX Arena Las Vegas\, 3900 South Las Vegas Boulevard\, Las Vegas\, NV\, 89119\, United States
CATEGORIES:Username Taken
ATTACH;FMTTYPE=image/jpeg:https://hyperxarenalasvegas.com/wp-content/uploads/UsernameTaken_S3E1_Thumbnail_1280x720-v2.jpg
END:VEVENT
BEGIN:VEVENT
DTSTART;TZID=America/Los_Angeles:20250730T120000
DTEND;TZID=America/Los_Angeles:20250730T210000
DTSTAMP:20260422T014633
CREATED:20250722T190847Z
LAST-MODIFIED:20250722T190859Z
UID:10001858-1753876800-1753909200@hyperxarenalasvegas.com
SUMMARY:Game Lounge Open & Arena Reserved
DESCRIPTION:NEW EPISODE OF USERNAME TAKEN!				\n				\n				\n				\n									Join us for a special episode of Username Taken with the Fantasy Girls! 								\n				\n				\n				\n									\n					\n						\n									WATCH ON YOUTUBE!
URL:https://hyperxarenalasvegas.com/event/game-lounge-open-arena-reserved-17/
LOCATION:HyperX Arena Las Vegas\, 3900 South Las Vegas Boulevard\, Las Vegas\, NV\, 89119\, United States
CATEGORIES:Arena
ATTACH;FMTTYPE=image/jpeg:https://hyperxarenalasvegas.com/wp-content/uploads/HXALV_CalendarGraphics_GameLoungeOpenArenaReserved-10.jpg
END:VEVENT
BEGIN:VEVENT
DTSTART;TZID=America/Los_Angeles:20250729T180000
DTEND;TZID=America/Los_Angeles:20250729T220000
DTSTAMP:20260422T014633
CREATED:20250718T194524Z
LAST-MODIFIED:20250718T195209Z
UID:10001851-1753812000-1753826400@hyperxarenalasvegas.com
SUMMARY:OFFICIAL Aces vs Sparks Watch Party
DESCRIPTION:NEW EPISODE OF USERNAME TAKEN!				\n				\n				\n				\n									Join us for a special episode of Username Taken with the Fantasy Girls! 								\n				\n				\n				\n									\n					\n						\n									WATCH ON YOUTUBE!
URL:https://hyperxarenalasvegas.com/event/official-aces-v-fever-watch-party/
LOCATION:NV
CATEGORIES:Special Events
ATTACH;FMTTYPE=image/png:https://hyperxarenalasvegas.com/wp-content/uploads/Image-40.png
END:VEVENT
BEGIN:VEVENT
DTSTART;TZID=America/Los_Angeles:20250729T140000
DTEND;TZID=America/Los_Angeles:20250729T150000
DTSTAMP:20260422T014633
CREATED:20250723T210938Z
LAST-MODIFIED:20250723T211055Z
UID:10001856-1753797600-1753801200@hyperxarenalasvegas.com
SUMMARY:[NEW EPISODE] CQC: Close Quarter Combat
DESCRIPTION:NEW EPISODE OF USERNAME TAKEN!				\n				\n				\n				\n									Join us for a special episode of Username Taken with the Fantasy Girls! 								\n				\n				\n				\n									\n					\n						\n									WATCH ON YOUTUBE!
URL:https://hyperxarenalasvegas.com/event/new-episode-cqc-close-quarter-combat/
LOCATION:HyperX Arena Las Vegas\, 3900 South Las Vegas Boulevard\, Las Vegas\, NV\, 89119\, United States
CATEGORIES:CQC Close Quarter Combat
ATTACH;FMTTYPE=image/jpeg:https://hyperxarenalasvegas.com/wp-content/uploads/HXALV_CQC_WebPoster_1920x1080.jpg
END:VEVENT
BEGIN:VEVENT
DTSTART;TZID=America/Los_Angeles:20250728T180000
DTEND;TZID=America/Los_Angeles:20250728T210000
DTSTAMP:20260422T014633
CREATED:20250722T184212Z
LAST-MODIFIED:20250722T184311Z
UID:10001857-1753725600-1753736400@hyperxarenalasvegas.com
SUMMARY:WMT Mahjong Social
DESCRIPTION:NEW EPISODE OF USERNAME TAKEN!				\n				\n				\n				\n									Join us for a special episode of Username Taken with the Fantasy Girls! 								\n				\n				\n				\n									\n					\n						\n									WATCH ON YOUTUBE!
URL:https://hyperxarenalasvegas.com/event/wmt-mahjong-social-11/
LOCATION:HyperX Arena Las Vegas\, 3900 South Las Vegas Boulevard\, Las Vegas\, NV\, 89119\, United States
CATEGORIES:Weekly Mahjong
ATTACH;FMTTYPE=image/jpeg:https://hyperxarenalasvegas.com/wp-content/uploads/AGAE_WMT_GeneralMahjong_1920x1080-1.jpg
END:VEVENT
BEGIN:VEVENT
DTSTART;TZID=America/Los_Angeles:20250728T120000
DTEND;TZID=America/Los_Angeles:20250728T210000
DTSTAMP:20260422T014633
CREATED:20250530T210947Z
LAST-MODIFIED:20250530T210948Z
UID:10001828-1753704000-1753736400@hyperxarenalasvegas.com
SUMMARY:Arena & Game Lounge Open
DESCRIPTION:NEW EPISODE OF USERNAME TAKEN!				\n				\n				\n				\n									Join us for a special episode of Username Taken with the Fantasy Girls! 								\n				\n				\n				\n									\n					\n						\n									WATCH ON YOUTUBE!
URL:https://hyperxarenalasvegas.com/event/arena-game-lounge-open-9/
LOCATION:HyperX Arena Las Vegas\, 3900 South Las Vegas Boulevard\, Las Vegas\, NV\, 89119\, United States
CATEGORIES:Arena
ATTACH;FMTTYPE=image/jpeg:https://hyperxarenalasvegas.com/wp-content/uploads/HXALV_CalendarGraphics_GameLoungeArenaOpen-2.jpg
END:VEVENT
BEGIN:VEVENT
DTSTART;TZID=America/Los_Angeles:20250727T120000
DTEND;TZID=America/Los_Angeles:20250727T170000
DTSTAMP:20260422T014633
CREATED:20250530T190323Z
LAST-MODIFIED:20250723T183752Z
UID:10001815-1753617600-1753635600@hyperxarenalasvegas.com
SUMMARY:Infinite Clash ft. Marvel Rivals #9
DESCRIPTION:NEW EPISODE OF USERNAME TAKEN!				\n				\n				\n				\n									Join us for a special episode of Username Taken with the Fantasy Girls! 								\n				\n				\n				\n									\n					\n						\n									WATCH ON YOUTUBE!
URL:https://hyperxarenalasvegas.com/event/infinite-clash-ft-marvel-rivals-9/
LOCATION:HyperX Arena Las Vegas\, 3900 South Las Vegas Boulevard\, Las Vegas\, NV\, 89119\, United States
CATEGORIES:Infinite Clash
ATTACH;FMTTYPE=image/jpeg:https://hyperxarenalasvegas.com/wp-content/uploads/HXALV_InfiniteClash_General_1920x1080-2.jpg
END:VEVENT
BEGIN:VEVENT
DTSTART;TZID=America/Los_Angeles:20250726T120000
DTEND;TZID=America/Los_Angeles:20250726T180000
DTSTAMP:20260422T014633
CREATED:20250723T162701Z
LAST-MODIFIED:20250822T185927Z
UID:10001863-1753531200-1753552800@hyperxarenalasvegas.com
SUMMARY:Speedway #246 Mario Kart World Test Drive #3
DESCRIPTION:NEW EPISODE OF USERNAME TAKEN!				\n				\n				\n				\n									Join us for a special episode of Username Taken with the Fantasy Girls! 								\n				\n				\n				\n									\n					\n						\n									WATCH ON YOUTUBE!
URL:https://hyperxarenalasvegas.com/event/speedway-246-mario-kart-world-test-drive/
LOCATION:NV
CATEGORIES:Speedway
ATTACH;FMTTYPE=image/jpeg:https://hyperxarenalasvegas.com/wp-content/uploads/HXALV_SpeedwayGameNight_General_1920x1080-6.jpg
END:VEVENT
BEGIN:VEVENT
DTSTART;TZID=America/Los_Angeles:20250725T170000
DTEND;TZID=America/Los_Angeles:20250725T220000
DTSTAMP:20260422T014633
CREATED:20250426T212156Z
LAST-MODIFIED:20250622T032536Z
UID:10001728-1753462800-1753480800@hyperxarenalasvegas.com
SUMMARY:Frags Feat Fortnite! #161 - Build Solos
DESCRIPTION:NEW EPISODE OF USERNAME TAKEN!				\n				\n				\n				\n									Join us for a special episode of Username Taken with the Fantasy Girls! 								\n				\n				\n				\n									\n					\n						\n									WATCH ON YOUTUBE!
URL:https://hyperxarenalasvegas.com/event/frags-feat-fortnite-161-build-solos/
LOCATION:HyperX Arena Las Vegas\, 3900 South Las Vegas Boulevard\, Las Vegas\, NV\, 89119\, United States
CATEGORIES:Frags
ATTACH;FMTTYPE=image/jpeg:https://hyperxarenalasvegas.com/wp-content/uploads/frags-feat-fortnite-hyperx-arena.jpg
ORGANIZER;CN="Allied Esports":MAILTO:esportsadmin@alliedesports.com
END:VEVENT
BEGIN:VEVENT
DTSTART;TZID=America/Los_Angeles:20250724T120000
DTEND;TZID=America/Los_Angeles:20250724T210000
DTSTAMP:20260422T014633
CREATED:20250721T205055Z
LAST-MODIFIED:20250721T205055Z
UID:10001855-1753358400-1753390800@hyperxarenalasvegas.com
SUMMARY:Game Lounge Open & Arena Reserved
DESCRIPTION:NEW EPISODE OF USERNAME TAKEN!				\n				\n				\n				\n									Join us for a special episode of Username Taken with the Fantasy Girls! 								\n				\n				\n				\n									\n					\n						\n									WATCH ON YOUTUBE!
URL:https://hyperxarenalasvegas.com/event/game-lounge-open-arena-reserved-16/
LOCATION:HyperX Arena Las Vegas\, 3900 South Las Vegas Boulevard\, Las Vegas\, NV\, 89119\, United States
CATEGORIES:Arena
ATTACH;FMTTYPE=image/jpeg:https://hyperxarenalasvegas.com/wp-content/uploads/HXALV_CalendarGraphics_GameLoungeOpenArenaReserved-10.jpg
END:VEVENT
BEGIN:VEVENT
DTSTART;TZID=America/Los_Angeles:20250723T120000
DTEND;TZID=America/Los_Angeles:20250723T210000
DTSTAMP:20260422T014633
CREATED:20250721T180753Z
LAST-MODIFIED:20250721T180754Z
UID:10001854-1753272000-1753304400@hyperxarenalasvegas.com
SUMMARY:Game Lounge Open & Arena Reserved
DESCRIPTION:NEW EPISODE OF USERNAME TAKEN!				\n				\n				\n				\n									Join us for a special episode of Username Taken with the Fantasy Girls! 								\n				\n				\n				\n									\n					\n						\n									WATCH ON YOUTUBE!
URL:https://hyperxarenalasvegas.com/event/game-lounge-open-arena-reserved-15/
LOCATION:HyperX Arena Las Vegas\, 3900 South Las Vegas Boulevard\, Las Vegas\, NV\, 89119\, United States
CATEGORIES:Arena
ATTACH;FMTTYPE=image/jpeg:https://hyperxarenalasvegas.com/wp-content/uploads/HXALV_CalendarGraphics_GameLoungeOpenArenaReserved-10.jpg
END:VEVENT
BEGIN:VEVENT
DTSTART;TZID=America/Los_Angeles:20250722T120000
DTEND;TZID=America/Los_Angeles:20250722T210000
DTSTAMP:20260422T014633
CREATED:20250721T175351Z
LAST-MODIFIED:20250721T175352Z
UID:10001853-1753185600-1753218000@hyperxarenalasvegas.com
SUMMARY:Game Lounge Open & Arena Reserved
DESCRIPTION:NEW EPISODE OF USERNAME TAKEN!				\n				\n				\n				\n									Join us for a special episode of Username Taken with the Fantasy Girls! 								\n				\n				\n				\n									\n					\n						\n									WATCH ON YOUTUBE!
URL:https://hyperxarenalasvegas.com/event/game-lounge-open-arena-reserved-14/
LOCATION:HyperX Arena Las Vegas\, 3900 South Las Vegas Boulevard\, Las Vegas\, NV\, 89119\, United States
CATEGORIES:Arena
ATTACH;FMTTYPE=image/jpeg:https://hyperxarenalasvegas.com/wp-content/uploads/HXALV_CalendarGraphics_GameLoungeOpenArenaReserved-10.jpg
END:VEVENT
BEGIN:VEVENT
DTSTART;TZID=America/Los_Angeles:20250721T180000
DTEND;TZID=America/Los_Angeles:20250721T210000
DTSTAMP:20260422T014633
CREATED:20250721T173427Z
LAST-MODIFIED:20250721T173747Z
UID:10001852-1753120800-1753131600@hyperxarenalasvegas.com
SUMMARY:WMT Mahjong Social
DESCRIPTION:NEW EPISODE OF USERNAME TAKEN!				\n				\n				\n				\n									Join us for a special episode of Username Taken with the Fantasy Girls! 								\n				\n				\n				\n									\n					\n						\n									WATCH ON YOUTUBE!
URL:https://hyperxarenalasvegas.com/event/wmt-mahjong-social-10/
LOCATION:HyperX Arena Las Vegas\, 3900 South Las Vegas Boulevard\, Las Vegas\, NV\, 89119\, United States
CATEGORIES:Weekly Mahjong
ATTACH;FMTTYPE=image/jpeg:https://hyperxarenalasvegas.com/wp-content/uploads/AGAE_WMT_GeneralMahjong_1920x1080-1.jpg
END:VEVENT
BEGIN:VEVENT
DTSTART;TZID=America/Los_Angeles:20250721T120000
DTEND;TZID=America/Los_Angeles:20250721T210000
DTSTAMP:20260422T014633
CREATED:20250530T205049Z
LAST-MODIFIED:20250530T205049Z
UID:10001822-1753099200-1753131600@hyperxarenalasvegas.com
SUMMARY:Arena & Game Lounge Open
DESCRIPTION:NEW EPISODE OF USERNAME TAKEN!				\n				\n				\n				\n									Join us for a special episode of Username Taken with the Fantasy Girls! 								\n				\n				\n				\n									\n					\n						\n									WATCH ON YOUTUBE!
URL:https://hyperxarenalasvegas.com/event/arena-game-lounge-open-8/
LOCATION:HyperX Arena Las Vegas\, 3900 South Las Vegas Boulevard\, Las Vegas\, NV\, 89119\, United States
CATEGORIES:Arena
ATTACH;FMTTYPE=image/jpeg:https://hyperxarenalasvegas.com/wp-content/uploads/HXALV_CalendarGraphics_GameLoungeArenaOpen-2.jpg
END:VEVENT
BEGIN:VEVENT
DTSTART;TZID=America/Los_Angeles:20250720T120000
DTEND;TZID=America/Los_Angeles:20250720T180000
DTSTAMP:20260422T014633
CREATED:20250718T165818Z
LAST-MODIFIED:20250718T170420Z
UID:10001850-1753012800-1753034400@hyperxarenalasvegas.com
SUMMARY:Infinite Clash ft. Marvel Rivals #8
DESCRIPTION:NEW EPISODE OF USERNAME TAKEN!				\n				\n				\n				\n									Join us for a special episode of Username Taken with the Fantasy Girls! 								\n				\n				\n				\n									\n					\n						\n									WATCH ON YOUTUBE!
URL:https://hyperxarenalasvegas.com/event/infinite-clash-ft-marvel-rivals-8-2/
LOCATION:HyperX Arena Las Vegas\, 3900 South Las Vegas Boulevard\, Las Vegas\, NV\, 89119\, United States
CATEGORIES:Infinite Clash
ATTACH;FMTTYPE=image/jpeg:https://hyperxarenalasvegas.com/wp-content/uploads/HXALV_InfiniteClash_General_1920x1080-2.jpg
END:VEVENT
BEGIN:VEVENT
DTSTART;TZID=America/Los_Angeles:20250719T120000
DTEND;TZID=America/Los_Angeles:20250719T180000
DTSTAMP:20260422T014633
CREATED:20250718T164019Z
LAST-MODIFIED:20250822T190156Z
UID:10001849-1752926400-1752948000@hyperxarenalasvegas.com
SUMMARY:Speedway #245 Mario Kart World Test Drive #2
DESCRIPTION:NEW EPISODE OF USERNAME TAKEN!				\n				\n				\n				\n									Join us for a special episode of Username Taken with the Fantasy Girls! 								\n				\n				\n				\n									\n					\n						\n									WATCH ON YOUTUBE!
URL:https://hyperxarenalasvegas.com/event/speedway-245-test-drive/
LOCATION:HyperX Arena Las Vegas\, 3900 South Las Vegas Boulevard\, Las Vegas\, NV\, 89119\, United States
CATEGORIES:Speedway
ATTACH;FMTTYPE=image/jpeg:https://hyperxarenalasvegas.com/wp-content/uploads/HXALV_SpeedwayGameNight_General_1920x1080-7.jpg
ORGANIZER;CN="Allied Esports":MAILTO:esportsadmin@alliedesports.com
END:VEVENT
BEGIN:VEVENT
DTSTART;TZID=America/Los_Angeles:20250717T120000
DTEND;TZID=America/Los_Angeles:20250717T210000
DTSTAMP:20260422T014633
CREATED:20250703T234930Z
LAST-MODIFIED:20250703T234931Z
UID:10001848-1752753600-1752786000@hyperxarenalasvegas.com
SUMMARY:Game Lounge Open & Arena Reserved
DESCRIPTION:NEW EPISODE OF USERNAME TAKEN!				\n				\n				\n				\n									Join us for a special episode of Username Taken with the Fantasy Girls! 								\n				\n				\n				\n									\n					\n						\n									WATCH ON YOUTUBE!
URL:https://hyperxarenalasvegas.com/event/game-lounge-open-arena-reserved-13/
LOCATION:HyperX Arena Las Vegas\, 3900 South Las Vegas Boulevard\, Las Vegas\, NV\, 89119\, United States
CATEGORIES:Arena
ATTACH;FMTTYPE=image/jpeg:https://hyperxarenalasvegas.com/wp-content/uploads/HXALV_CalendarGraphics_GameLoungeOpenArenaReserved-10.jpg
END:VEVENT
BEGIN:VEVENT
DTSTART;TZID=America/Los_Angeles:20250715T120000
DTEND;TZID=America/Los_Angeles:20250715T210000
DTSTAMP:20260422T014633
CREATED:20250703T234757Z
LAST-MODIFIED:20250703T234758Z
UID:10001847-1752580800-1752613200@hyperxarenalasvegas.com
SUMMARY:Game Lounge Open & Arena Reserved
DESCRIPTION:NEW EPISODE OF USERNAME TAKEN!				\n				\n				\n				\n									Join us for a special episode of Username Taken with the Fantasy Girls! 								\n				\n				\n				\n									\n					\n						\n									WATCH ON YOUTUBE!
URL:https://hyperxarenalasvegas.com/event/game-lounge-open-arena-reserved-12/
LOCATION:HyperX Arena Las Vegas\, 3900 South Las Vegas Boulevard\, Las Vegas\, NV\, 89119\, United States
CATEGORIES:Arena
ATTACH;FMTTYPE=image/jpeg:https://hyperxarenalasvegas.com/wp-content/uploads/HXALV_CalendarGraphics_GameLoungeOpenArenaReserved-10.jpg
END:VEVENT
BEGIN:VEVENT
DTSTART;TZID=America/Los_Angeles:20250714T180000
DTEND;TZID=America/Los_Angeles:20250714T210000
DTSTAMP:20260422T014633
CREATED:20250626T213341Z
LAST-MODIFIED:20250626T213941Z
UID:10001839-1752516000-1752526800@hyperxarenalasvegas.com
SUMMARY:WMT Mahjong Social
DESCRIPTION:NEW EPISODE OF USERNAME TAKEN!				\n				\n				\n				\n									Join us for a special episode of Username Taken with the Fantasy Girls! 								\n				\n				\n				\n									\n					\n						\n									WATCH ON YOUTUBE!
URL:https://hyperxarenalasvegas.com/event/wmt-mahjong-social-9/
LOCATION:NV
CATEGORIES:Weekly Mahjong
ATTACH;FMTTYPE=image/jpeg:https://hyperxarenalasvegas.com/wp-content/uploads/AGAE_WMT_GeneralMahjong_1920x1080-1.jpg
END:VEVENT
BEGIN:VEVENT
DTSTART;TZID=America/Los_Angeles:20250714T120000
DTEND;TZID=America/Los_Angeles:20250714T210000
DTSTAMP:20260422T014633
CREATED:20250530T192154Z
LAST-MODIFIED:20250530T192207Z
UID:10001817-1752494400-1752526800@hyperxarenalasvegas.com
SUMMARY:Arena & Game Lounge Open
DESCRIPTION:NEW EPISODE OF USERNAME TAKEN!				\n				\n				\n				\n									Join us for a special episode of Username Taken with the Fantasy Girls! 								\n				\n				\n				\n									\n					\n						\n									WATCH ON YOUTUBE!
URL:https://hyperxarenalasvegas.com/event/arena-game-lounge-open-7/
LOCATION:HyperX Arena Las Vegas\, 3900 South Las Vegas Boulevard\, Las Vegas\, NV\, 89119\, United States
CATEGORIES:Arena
ATTACH;FMTTYPE=image/jpeg:https://hyperxarenalasvegas.com/wp-content/uploads/HXALV_CalendarGraphics_GameLoungeArenaOpen-2.jpg
END:VEVENT
BEGIN:VEVENT
DTSTART;TZID=America/Los_Angeles:20250713T120000
DTEND;TZID=America/Los_Angeles:20250713T170000
DTSTAMP:20260422T014633
CREATED:20250530T190007Z
LAST-MODIFIED:20250712T193830Z
UID:10001813-1752408000-1752426000@hyperxarenalasvegas.com
SUMMARY:Infinite Clash ft. Marvel Rivals #7
DESCRIPTION:NEW EPISODE OF USERNAME TAKEN!				\n				\n				\n				\n									Join us for a special episode of Username Taken with the Fantasy Girls! 								\n				\n				\n				\n									\n					\n						\n									WATCH ON YOUTUBE!
URL:https://hyperxarenalasvegas.com/event/infinite-clash-ft-marvel-rivals-7/
LOCATION:HyperX Arena Las Vegas\, 3900 South Las Vegas Boulevard\, Las Vegas\, NV\, 89119\, United States
CATEGORIES:Infinite Clash
ATTACH;FMTTYPE=image/jpeg:https://hyperxarenalasvegas.com/wp-content/uploads/HXALV_InfiniteClash_General_1920x1080-2.jpg
END:VEVENT
BEGIN:VEVENT
DTSTART;TZID=America/Los_Angeles:20250712T120000
DTEND;TZID=America/Los_Angeles:20250712T180000
DTSTAMP:20260422T014633
CREATED:20250707T213003Z
LAST-MODIFIED:20250822T190447Z
UID:10001841-1752321600-1752343200@hyperxarenalasvegas.com
SUMMARY:Speedway #244 Mario Kart World Test Drive #1
DESCRIPTION:NEW EPISODE OF USERNAME TAKEN!				\n				\n				\n				\n									Join us for a special episode of Username Taken with the Fantasy Girls! 								\n				\n				\n				\n									\n					\n						\n									WATCH ON YOUTUBE!
URL:https://hyperxarenalasvegas.com/event/speedway-243-2/
LOCATION:HyperX Arena Las Vegas\, 3900 South Las Vegas Boulevard\, Las Vegas\, NV\, 89119\, United States
CATEGORIES:Speedway
ATTACH;FMTTYPE=image/jpeg:https://hyperxarenalasvegas.com/wp-content/uploads/HXALV_SpeedwayGameNight_General_1920x1080-8.jpg
ORGANIZER;CN="Allied Esports":MAILTO:esportsadmin@alliedesports.com
END:VEVENT
BEGIN:VEVENT
DTSTART;TZID=America/Los_Angeles:20250711T170000
DTEND;TZID=America/Los_Angeles:20250711T220000
DTSTAMP:20260422T014633
CREATED:20250426T211742Z
LAST-MODIFIED:20250706T211209Z
UID:10001726-1752253200-1752271200@hyperxarenalasvegas.com
SUMMARY:Frags Feat Fortnite! #159 - Build Solos
DESCRIPTION:NEW EPISODE OF USERNAME TAKEN!				\n				\n				\n				\n									Join us for a special episode of Username Taken with the Fantasy Girls! 								\n				\n				\n				\n									\n					\n						\n									WATCH ON YOUTUBE!
URL:https://hyperxarenalasvegas.com/event/frags-feat-fortnite-159-build-solos/
LOCATION:HyperX Arena Las Vegas\, 3900 South Las Vegas Boulevard\, Las Vegas\, NV\, 89119\, United States
CATEGORIES:Frags
ATTACH;FMTTYPE=image/jpeg:https://hyperxarenalasvegas.com/wp-content/uploads/frags-feat-fortnite-hyperx-arena.jpg
ORGANIZER;CN="Allied Esports":MAILTO:esportsadmin@alliedesports.com
END:VEVENT
BEGIN:VEVENT
DTSTART;TZID=America/Los_Angeles:20250710T120000
DTEND;TZID=America/Los_Angeles:20250710T210000
DTSTAMP:20260422T014633
CREATED:20250703T233354Z
LAST-MODIFIED:20250703T233355Z
UID:10001846-1752148800-1752181200@hyperxarenalasvegas.com
SUMMARY:Game Lounge Open & Arena Reserved
DESCRIPTION:NEW EPISODE OF USERNAME TAKEN!				\n				\n				\n				\n									Join us for a special episode of Username Taken with the Fantasy Girls! 								\n				\n				\n				\n									\n					\n						\n									WATCH ON YOUTUBE!
URL:https://hyperxarenalasvegas.com/event/game-lounge-open-arena-reserved-11/
LOCATION:HyperX Arena Las Vegas\, 3900 South Las Vegas Boulevard\, Las Vegas\, NV\, 89119\, United States
CATEGORIES:Arena
ATTACH;FMTTYPE=image/jpeg:https://hyperxarenalasvegas.com/wp-content/uploads/HXALV_CalendarGraphics_GameLoungeOpenArenaReserved-10.jpg
END:VEVENT
BEGIN:VEVENT
DTSTART;TZID=America/Los_Angeles:20250708T120000
DTEND;TZID=America/Los_Angeles:20250708T210000
DTSTAMP:20260422T014633
CREATED:20250703T231759Z
LAST-MODIFIED:20250703T231759Z
UID:10001845-1751976000-1752008400@hyperxarenalasvegas.com
SUMMARY:Game Lounge Open & Arena Reserved
DESCRIPTION:NEW EPISODE OF USERNAME TAKEN!				\n				\n				\n				\n									Join us for a special episode of Username Taken with the Fantasy Girls! 								\n				\n				\n				\n									\n					\n						\n									WATCH ON YOUTUBE!
URL:https://hyperxarenalasvegas.com/event/game-lounge-open-arena-reserved-10/
LOCATION:HyperX Arena Las Vegas\, 3900 South Las Vegas Boulevard\, Las Vegas\, NV\, 89119\, United States
CATEGORIES:Arena
ATTACH;FMTTYPE=image/jpeg:https://hyperxarenalasvegas.com/wp-content/uploads/HXALV_CalendarGraphics_GameLoungeOpenArenaReserved-10.jpg
END:VEVENT
BEGIN:VEVENT
DTSTART;TZID=America/Los_Angeles:20250707T180000
DTEND;TZID=America/Los_Angeles:20250707T210000
DTSTAMP:20260422T014633
CREATED:20250626T205237Z
LAST-MODIFIED:20250626T205746Z
UID:10001838-1751911200-1751922000@hyperxarenalasvegas.com
SUMMARY:WMT Mahjong Social
DESCRIPTION:NEW EPISODE OF USERNAME TAKEN!				\n				\n				\n				\n									Join us for a special episode of Username Taken with the Fantasy Girls! 								\n				\n				\n				\n									\n					\n						\n									WATCH ON YOUTUBE!
URL:https://hyperxarenalasvegas.com/event/wmt-mahjong-social-8/
LOCATION:NV
CATEGORIES:Weekly Mahjong
ATTACH;FMTTYPE=image/jpeg:https://hyperxarenalasvegas.com/wp-content/uploads/AGAE_WMT_GeneralMahjong_1920x1080-1.jpg
END:VEVENT
BEGIN:VEVENT
DTSTART;TZID=America/Los_Angeles:20250707T120000
DTEND;TZID=America/Los_Angeles:20250707T210000
DTSTAMP:20260422T014633
CREATED:20250530T174336Z
LAST-MODIFIED:20250530T174337Z
UID:10001808-1751889600-1751922000@hyperxarenalasvegas.com
SUMMARY:Arena & Game Lounge Open!
DESCRIPTION:NEW EPISODE OF USERNAME TAKEN!				\n				\n				\n				\n									Join us for a special episode of Username Taken with the Fantasy Girls! 								\n				\n				\n				\n									\n					\n						\n									WATCH ON YOUTUBE!
URL:https://hyperxarenalasvegas.com/event/arena-game-lounge-open-6/
LOCATION:HyperX Arena Las Vegas\, 3900 South Las Vegas Boulevard\, Las Vegas\, NV\, 89119\, United States
CATEGORIES:Arena
ATTACH;FMTTYPE=image/jpeg:https://hyperxarenalasvegas.com/wp-content/uploads/HXALV_CalendarGraphics_GameLoungeArenaOpen-2.jpg
END:VEVENT
END:VCALENDAR