BEGIN:VCALENDAR
VERSION:2.0
PRODID:-//HyperX Arena Las Vegas - ECPv6.15.20//NONSGML v1.0//EN
CALSCALE:GREGORIAN
METHOD:PUBLISH
X-ORIGINAL-URL:https://hyperxarenalasvegas.com
X-WR-CALDESC:Events for HyperX Arena Las Vegas
REFRESH-INTERVAL;VALUE=DURATION:PT1H
X-Robots-Tag:noindex
X-PUBLISHED-TTL:PT1H
BEGIN:VTIMEZONE
TZID:America/Los_Angeles
BEGIN:DAYLIGHT
TZOFFSETFROM:-0800
TZOFFSETTO:-0700
TZNAME:PDT
DTSTART:20240310T100000
END:DAYLIGHT
BEGIN:STANDARD
TZOFFSETFROM:-0700
TZOFFSETTO:-0800
TZNAME:PST
DTSTART:20241103T090000
END:STANDARD
BEGIN:DAYLIGHT
TZOFFSETFROM:-0800
TZOFFSETTO:-0700
TZNAME:PDT
DTSTART:20250309T100000
END:DAYLIGHT
BEGIN:STANDARD
TZOFFSETFROM:-0700
TZOFFSETTO:-0800
TZNAME:PST
DTSTART:20251102T090000
END:STANDARD
BEGIN:DAYLIGHT
TZOFFSETFROM:-0800
TZOFFSETTO:-0700
TZNAME:PDT
DTSTART:20260308T100000
END:DAYLIGHT
BEGIN:STANDARD
TZOFFSETFROM:-0700
TZOFFSETTO:-0800
TZNAME:PST
DTSTART:20261101T090000
END:STANDARD
BEGIN:DAYLIGHT
TZOFFSETFROM:-0800
TZOFFSETTO:-0700
TZNAME:PDT
DTSTART:20270314T100000
END:DAYLIGHT
BEGIN:STANDARD
TZOFFSETFROM:-0700
TZOFFSETTO:-0800
TZNAME:PST
DTSTART:20271107T090000
END:STANDARD
END:VTIMEZONE
BEGIN:VEVENT
DTSTART;TZID=America/Los_Angeles:20251208T120000
DTEND;TZID=America/Los_Angeles:20251208T210000
DTSTAMP:20260422T144516
CREATED:20251126T183548Z
LAST-MODIFIED:20251126T183550Z
UID:10002072-1765195200-1765227600@hyperxarenalasvegas.com
SUMMARY:Come In & Play!
DESCRIPTION:NEW EPISODE OF USERNAME TAKEN!				\n				\n				\n				\n									Join us for a special episode of Username Taken with the Fantasy Girls! 								\n				\n				\n				\n									\n					\n						\n									WATCH ON YOUTUBE!
URL:https://hyperxarenalasvegas.com/event/come-in-play/
LOCATION:HyperX Arena Las Vegas\, 3900 South Las Vegas Boulevard\, Las Vegas\, NV\, 89119\, United States
CATEGORIES:Arena
ATTACH;FMTTYPE=image/jpeg:https://hyperxarenalasvegas.com/wp-content/uploads/HXALV_CalendarGraphics_OPEN.jpg
END:VEVENT
BEGIN:VEVENT
DTSTART;TZID=America/Los_Angeles:20251209T120000
DTEND;TZID=America/Los_Angeles:20251209T210000
DTSTAMP:20260422T144516
CREATED:20251126T183730Z
LAST-MODIFIED:20251126T183732Z
UID:10002073-1765281600-1765314000@hyperxarenalasvegas.com
SUMMARY:Come In and Play!
DESCRIPTION:NEW EPISODE OF USERNAME TAKEN!				\n				\n				\n				\n									Join us for a special episode of Username Taken with the Fantasy Girls! 								\n				\n				\n				\n									\n					\n						\n									WATCH ON YOUTUBE!
URL:https://hyperxarenalasvegas.com/event/come-in-and-play-2/
LOCATION:HyperX Arena Las Vegas\, 3900 South Las Vegas Boulevard\, Las Vegas\, NV\, 89119\, United States
CATEGORIES:Arena
ATTACH;FMTTYPE=image/jpeg:https://hyperxarenalasvegas.com/wp-content/uploads/HXALV_CalendarGraphics_OPEN.jpg
END:VEVENT
BEGIN:VEVENT
DTSTART;TZID=America/Los_Angeles:20251210T120000
DTEND;TZID=America/Los_Angeles:20251210T210000
DTSTAMP:20260422T144516
CREATED:20251126T183856Z
LAST-MODIFIED:20251126T183857Z
UID:10002074-1765368000-1765400400@hyperxarenalasvegas.com
SUMMARY:Come In and Play
DESCRIPTION:NEW EPISODE OF USERNAME TAKEN!				\n				\n				\n				\n									Join us for a special episode of Username Taken with the Fantasy Girls! 								\n				\n				\n				\n									\n					\n						\n									WATCH ON YOUTUBE!
URL:https://hyperxarenalasvegas.com/event/come-in-and-play-3/
LOCATION:HyperX Arena Las Vegas\, 3900 South Las Vegas Boulevard\, Las Vegas\, NV\, 89119\, United States
CATEGORIES:Arena
ATTACH;FMTTYPE=image/jpeg:https://hyperxarenalasvegas.com/wp-content/uploads/HXALV_CalendarGraphics_OPEN.jpg
END:VEVENT
BEGIN:VEVENT
DTSTART;TZID=America/Los_Angeles:20251211T120000
DTEND;TZID=America/Los_Angeles:20251211T210000
DTSTAMP:20260422T144516
CREATED:20251126T184029Z
LAST-MODIFIED:20251126T184030Z
UID:10002075-1765454400-1765486800@hyperxarenalasvegas.com
SUMMARY:Come In and Play
DESCRIPTION:NEW EPISODE OF USERNAME TAKEN!				\n				\n				\n				\n									Join us for a special episode of Username Taken with the Fantasy Girls! 								\n				\n				\n				\n									\n					\n						\n									WATCH ON YOUTUBE!
URL:https://hyperxarenalasvegas.com/event/come-in-and-play-4/
LOCATION:HyperX Arena Las Vegas\, 3900 South Las Vegas Boulevard\, Las Vegas\, NV\, 89119\, United States
CATEGORIES:Arena
ATTACH;FMTTYPE=image/jpeg:https://hyperxarenalasvegas.com/wp-content/uploads/HXALV_CalendarGraphics_OPEN.jpg
END:VEVENT
BEGIN:VEVENT
DTSTART;TZID=America/Los_Angeles:20251212T170000
DTEND;TZID=America/Los_Angeles:20251212T220000
DTSTAMP:20260422T144516
CREATED:20251125T005258Z
LAST-MODIFIED:20251207T041415Z
UID:10002066-1765558800-1765576800@hyperxarenalasvegas.com
SUMMARY:Winter Series ft. Knockdown!
DESCRIPTION:NEW EPISODE OF USERNAME TAKEN!				\n				\n				\n				\n									Join us for a special episode of Username Taken with the Fantasy Girls! 								\n				\n				\n				\n									\n					\n						\n									WATCH ON YOUTUBE!
URL:https://hyperxarenalasvegas.com/event/winter-series-ft-knockdown/
LOCATION:HyperX Arena Las Vegas\, 3900 South Las Vegas Boulevard\, Las Vegas\, NV\, 89119\, United States
CATEGORIES:Special Events
ATTACH;FMTTYPE=image/jpeg:https://hyperxarenalasvegas.com/wp-content/uploads/HXALV_WinterSeries_Knockdown_1080x1080-1.jpg
END:VEVENT
BEGIN:VEVENT
DTSTART;TZID=America/Los_Angeles:20251213T110000
DTEND;TZID=America/Los_Angeles:20251213T220000
DTSTAMP:20260422T144516
CREATED:20251125T005541Z
LAST-MODIFIED:20251208T044924Z
UID:10002067-1765623600-1765663200@hyperxarenalasvegas.com
SUMMARY:Winter Series ft. Speedway Racing Simulators
DESCRIPTION:NEW EPISODE OF USERNAME TAKEN!				\n				\n				\n				\n									Join us for a special episode of Username Taken with the Fantasy Girls! 								\n				\n				\n				\n									\n					\n						\n									WATCH ON YOUTUBE!
URL:https://hyperxarenalasvegas.com/event/winter-series-ft-speedway-racing-simulators/
LOCATION:HyperX Arena Las Vegas\, 3900 South Las Vegas Boulevard\, Las Vegas\, NV\, 89119\, United States
CATEGORIES:Special Events
ATTACH;FMTTYPE=image/jpeg:https://hyperxarenalasvegas.com/wp-content/uploads/HXALV_WinterSeries_Speedway_1080x1080.jpg
END:VEVENT
BEGIN:VEVENT
DTSTART;TZID=America/Los_Angeles:20251214T120000
DTEND;TZID=America/Los_Angeles:20251214T210000
DTSTAMP:20260422T144516
CREATED:20251126T185231Z
LAST-MODIFIED:20251126T185233Z
UID:10002076-1765713600-1765746000@hyperxarenalasvegas.com
SUMMARY:Come In and Play!
DESCRIPTION:NEW EPISODE OF USERNAME TAKEN!				\n				\n				\n				\n									Join us for a special episode of Username Taken with the Fantasy Girls! 								\n				\n				\n				\n									\n					\n						\n									WATCH ON YOUTUBE!
URL:https://hyperxarenalasvegas.com/event/come-in-and-play-5/
LOCATION:HyperX Arena Las Vegas\, 3900 South Las Vegas Boulevard\, Las Vegas\, NV\, 89119\, United States
CATEGORIES:Arena
ATTACH;FMTTYPE=image/jpeg:https://hyperxarenalasvegas.com/wp-content/uploads/HXALV_CalendarGraphics_OPEN.jpg
END:VEVENT
BEGIN:VEVENT
DTSTART;TZID=America/Los_Angeles:20251215T120000
DTEND;TZID=America/Los_Angeles:20251215T210000
DTSTAMP:20260422T144516
CREATED:20251126T185354Z
LAST-MODIFIED:20251126T185356Z
UID:10002077-1765800000-1765832400@hyperxarenalasvegas.com
SUMMARY:Come In and Play!
DESCRIPTION:NEW EPISODE OF USERNAME TAKEN!				\n				\n				\n				\n									Join us for a special episode of Username Taken with the Fantasy Girls! 								\n				\n				\n				\n									\n					\n						\n									WATCH ON YOUTUBE!
URL:https://hyperxarenalasvegas.com/event/come-in-and-play-6/
LOCATION:HyperX Arena Las Vegas\, 3900 South Las Vegas Boulevard\, Las Vegas\, NV\, 89119\, United States
CATEGORIES:Arena
ATTACH;FMTTYPE=image/jpeg:https://hyperxarenalasvegas.com/wp-content/uploads/HXALV_CalendarGraphics_OPEN.jpg
END:VEVENT
BEGIN:VEVENT
DTSTART;TZID=America/Los_Angeles:20251216T120000
DTEND;TZID=America/Los_Angeles:20251216T170000
DTSTAMP:20260422T144516
CREATED:20251126T185947Z
LAST-MODIFIED:20251126T185948Z
UID:10002078-1765886400-1765904400@hyperxarenalasvegas.com
SUMMARY:Come In and Play! Special Hours: 12-5PM
DESCRIPTION:NEW EPISODE OF USERNAME TAKEN!				\n				\n				\n				\n									Join us for a special episode of Username Taken with the Fantasy Girls! 								\n				\n				\n				\n									\n					\n						\n									WATCH ON YOUTUBE!
URL:https://hyperxarenalasvegas.com/event/come-in-and-play-special-hours-12-5pm/
LOCATION:HyperX Arena Las Vegas\, 3900 South Las Vegas Boulevard\, Las Vegas\, NV\, 89119\, United States
CATEGORIES:Arena
ATTACH;FMTTYPE=image/jpeg:https://hyperxarenalasvegas.com/wp-content/uploads/HXALV_CalendarGraphics_CompanyParty.jpg
END:VEVENT
BEGIN:VEVENT
DTSTART;TZID=America/Los_Angeles:20251217T120000
DTEND;TZID=America/Los_Angeles:20251217T210000
DTSTAMP:20260422T144516
CREATED:20251126T190252Z
LAST-MODIFIED:20251126T190253Z
UID:10002079-1765972800-1766005200@hyperxarenalasvegas.com
SUMMARY:Game Lounge Open & Arena Reserved
DESCRIPTION:NEW EPISODE OF USERNAME TAKEN!				\n				\n				\n				\n									Join us for a special episode of Username Taken with the Fantasy Girls! 								\n				\n				\n				\n									\n					\n						\n									WATCH ON YOUTUBE!
URL:https://hyperxarenalasvegas.com/event/game-lounge-open-arena-reserved-62/
LOCATION:HyperX Arena Las Vegas\, 3900 South Las Vegas Boulevard\, Las Vegas\, NV\, 89119\, United States
CATEGORIES:Arena
ATTACH;FMTTYPE=image/jpeg:https://hyperxarenalasvegas.com/wp-content/uploads/HXALV_CalendarGraphics_GameLoungeOpenArenaReserved-10.jpg
END:VEVENT
BEGIN:VEVENT
DTSTART;TZID=America/Los_Angeles:20251218T120000
DTEND;TZID=America/Los_Angeles:20251218T210000
DTSTAMP:20260422T144516
CREATED:20251126T190540Z
LAST-MODIFIED:20251126T190542Z
UID:10002080-1766059200-1766091600@hyperxarenalasvegas.com
SUMMARY:Come In and Play!
DESCRIPTION:NEW EPISODE OF USERNAME TAKEN!				\n				\n				\n				\n									Join us for a special episode of Username Taken with the Fantasy Girls! 								\n				\n				\n				\n									\n					\n						\n									WATCH ON YOUTUBE!
URL:https://hyperxarenalasvegas.com/event/come-in-and-play-7/
LOCATION:HyperX Arena Las Vegas\, 3900 South Las Vegas Boulevard\, Las Vegas\, NV\, 89119\, United States
CATEGORIES:Arena
ATTACH;FMTTYPE=image/jpeg:https://hyperxarenalasvegas.com/wp-content/uploads/HXALV_CalendarGraphics_OPEN.jpg
END:VEVENT
BEGIN:VEVENT
DTSTART;TZID=America/Los_Angeles:20251219T170000
DTEND;TZID=America/Los_Angeles:20251219T220000
DTSTAMP:20260422T144516
CREATED:20251125T005951Z
LAST-MODIFIED:20251207T031757Z
UID:10002068-1766163600-1766181600@hyperxarenalasvegas.com
SUMMARY:Winter Series ft. Marvel Rivals
DESCRIPTION:NEW EPISODE OF USERNAME TAKEN!				\n				\n				\n				\n									Join us for a special episode of Username Taken with the Fantasy Girls! 								\n				\n				\n				\n									\n					\n						\n									WATCH ON YOUTUBE!
URL:https://hyperxarenalasvegas.com/event/winter-series-ft-marvel-rivals/
LOCATION:HyperX Arena Las Vegas\, 3900 South Las Vegas Boulevard\, Las Vegas\, NV\, 89119\, United States
CATEGORIES:Special Events
ATTACH;FMTTYPE=image/jpeg:https://hyperxarenalasvegas.com/wp-content/uploads/HXALV_WinterSeries_MarvelRivalsMain_1080x1080.jpg
END:VEVENT
BEGIN:VEVENT
DTSTART;TZID=America/Los_Angeles:20251220T170000
DTEND;TZID=America/Los_Angeles:20251220T220000
DTSTAMP:20260422T144516
CREATED:20251125T010222Z
LAST-MODIFIED:20251125T010314Z
UID:10002069-1766250000-1766268000@hyperxarenalasvegas.com
SUMMARY:Winter Series ft. Riot Rumble
DESCRIPTION:NEW EPISODE OF USERNAME TAKEN!				\n				\n				\n				\n									Join us for a special episode of Username Taken with the Fantasy Girls! 								\n				\n				\n				\n									\n					\n						\n									WATCH ON YOUTUBE!
URL:https://hyperxarenalasvegas.com/event/winter-series-ft-riot-rumble/
LOCATION:HyperX Arena Las Vegas\, 3900 South Las Vegas Boulevard\, Las Vegas\, NV\, 89119\, United States
CATEGORIES:Special Events
ATTACH;FMTTYPE=image/jpeg:https://hyperxarenalasvegas.com/wp-content/uploads/HXALV_WinterSeries_RiotRumble_1080x1080.jpg
END:VEVENT
BEGIN:VEVENT
DTSTART;TZID=America/Los_Angeles:20251221T110000
DTEND;TZID=America/Los_Angeles:20251221T180000
DTSTAMP:20260422T144516
CREATED:20251203T225056Z
LAST-MODIFIED:20251203T225504Z
UID:10002092-1766314800-1766340000@hyperxarenalasvegas.com
SUMMARY:WMT Presents Mission: Mahjong!'s 2025 Tourney
DESCRIPTION:NEW EPISODE OF USERNAME TAKEN!				\n				\n				\n				\n									Join us for a special episode of Username Taken with the Fantasy Girls! 								\n				\n				\n				\n									\n					\n						\n									WATCH ON YOUTUBE!
URL:https://hyperxarenalasvegas.com/event/wmt-presents-mission-mahjongs-2025-tourney/
LOCATION:HyperX Arena Las Vegas\, 3900 South Las Vegas Boulevard\, Las Vegas\, NV\, 89119\, United States
CATEGORIES:Weekly Mahjong
ATTACH;FMTTYPE=image/jpeg:https://hyperxarenalasvegas.com/wp-content/uploads/1221_WMT_MahjongTournament_1920x1080.jpg
END:VEVENT
BEGIN:VEVENT
DTSTART;TZID=America/Los_Angeles:20251222T120000
DTEND;TZID=America/Los_Angeles:20251222T210000
DTSTAMP:20260422T144516
CREATED:20251126T195556Z
LAST-MODIFIED:20251126T195558Z
UID:10002082-1766404800-1766437200@hyperxarenalasvegas.com
SUMMARY:Come In and Play!
DESCRIPTION:NEW EPISODE OF USERNAME TAKEN!				\n				\n				\n				\n									Join us for a special episode of Username Taken with the Fantasy Girls! 								\n				\n				\n				\n									\n					\n						\n									WATCH ON YOUTUBE!
URL:https://hyperxarenalasvegas.com/event/come-in-and-play-8/
LOCATION:HyperX Arena Las Vegas\, 3900 South Las Vegas Boulevard\, Las Vegas\, NV\, 89119\, United States
CATEGORIES:Arena
ATTACH;FMTTYPE=image/jpeg:https://hyperxarenalasvegas.com/wp-content/uploads/HXALV_CalendarGraphics_OPEN.jpg
END:VEVENT
BEGIN:VEVENT
DTSTART;TZID=America/Los_Angeles:20251223T120000
DTEND;TZID=America/Los_Angeles:20251223T210000
DTSTAMP:20260422T144516
CREATED:20251126T214609Z
LAST-MODIFIED:20251126T214611Z
UID:10002083-1766491200-1766523600@hyperxarenalasvegas.com
SUMMARY:Come In and Play!
DESCRIPTION:NEW EPISODE OF USERNAME TAKEN!				\n				\n				\n				\n									Join us for a special episode of Username Taken with the Fantasy Girls! 								\n				\n				\n				\n									\n					\n						\n									WATCH ON YOUTUBE!
URL:https://hyperxarenalasvegas.com/event/come-in-and-play-9/
LOCATION:HyperX Arena Las Vegas\, 3900 South Las Vegas Boulevard\, Las Vegas\, NV\, 89119\, United States
CATEGORIES:Arena
ATTACH;FMTTYPE=image/jpeg:https://hyperxarenalasvegas.com/wp-content/uploads/HXALV_CalendarGraphics_OPEN.jpg
END:VEVENT
BEGIN:VEVENT
DTSTART;TZID=America/Los_Angeles:20251224T120000
DTEND;TZID=America/Los_Angeles:20251224T180000
DTSTAMP:20260422T144516
CREATED:20251126T220743Z
LAST-MODIFIED:20251126T220745Z
UID:10002084-1766577600-1766599200@hyperxarenalasvegas.com
SUMMARY:Happy Holidays! Special Hours: 12-6PM
DESCRIPTION:NEW EPISODE OF USERNAME TAKEN!				\n				\n				\n				\n									Join us for a special episode of Username Taken with the Fantasy Girls! 								\n				\n				\n				\n									\n					\n						\n									WATCH ON YOUTUBE!
URL:https://hyperxarenalasvegas.com/event/happy-holidays-special-hours-12-6pm/
LOCATION:HyperX Arena Las Vegas\, 3900 South Las Vegas Boulevard\, Las Vegas\, NV\, 89119\, United States
CATEGORIES:Arena
ATTACH;FMTTYPE=image/jpeg:https://hyperxarenalasvegas.com/wp-content/uploads/HXALV_CalendarGraphics_ChristmasEve.jpg
END:VEVENT
BEGIN:VEVENT
DTSTART;TZID=America/Los_Angeles:20251225T130000
DTEND;TZID=America/Los_Angeles:20251225T210000
DTSTAMP:20260422T144516
CREATED:20251201T180138Z
LAST-MODIFIED:20251201T180140Z
UID:10002090-1766667600-1766696400@hyperxarenalasvegas.com
SUMMARY:Come In and Play!
DESCRIPTION:NEW EPISODE OF USERNAME TAKEN!				\n				\n				\n				\n									Join us for a special episode of Username Taken with the Fantasy Girls! 								\n				\n				\n				\n									\n					\n						\n									WATCH ON YOUTUBE!
URL:https://hyperxarenalasvegas.com/event/come-in-and-play-13/
LOCATION:HyperX Arena Las Vegas\, 3900 South Las Vegas Boulevard\, Las Vegas\, NV\, 89119\, United States
CATEGORIES:Arena
ATTACH;FMTTYPE=image/jpeg:https://hyperxarenalasvegas.com/wp-content/uploads/HXALV_CalendarGraphics_OPEN.jpg
END:VEVENT
BEGIN:VEVENT
DTSTART;TZID=America/Los_Angeles:20251226T120000
DTEND;TZID=America/Los_Angeles:20251226T210000
DTSTAMP:20260422T144516
CREATED:20251126T222747Z
LAST-MODIFIED:20251126T222749Z
UID:10002085-1766750400-1766782800@hyperxarenalasvegas.com
SUMMARY:TCG DAY COMING SOON
DESCRIPTION:NEW EPISODE OF USERNAME TAKEN!				\n				\n				\n				\n									Join us for a special episode of Username Taken with the Fantasy Girls! 								\n				\n				\n				\n									\n					\n						\n									WATCH ON YOUTUBE!
URL:https://hyperxarenalasvegas.com/event/tcg-day-coming-soon/
LOCATION:HyperX Arena Las Vegas\, 3900 South Las Vegas Boulevard\, Las Vegas\, NV\, 89119\, United States
CATEGORIES:Arena
ATTACH;FMTTYPE=image/jpeg:https://hyperxarenalasvegas.com/wp-content/uploads/HXALV_CalendarGraphics_OPEN.jpg
END:VEVENT
BEGIN:VEVENT
DTSTART;TZID=America/Los_Angeles:20251227T180000
DTEND;TZID=America/Los_Angeles:20251227T230000
DTSTAMP:20260422T144516
CREATED:20251126T232121Z
LAST-MODIFIED:20251126T232204Z
UID:10002086-1766858400-1766876400@hyperxarenalasvegas.com
SUMMARY:Counter-Strike 2: LAN 10 Mans #2
DESCRIPTION:NEW EPISODE OF USERNAME TAKEN!				\n				\n				\n				\n									Join us for a special episode of Username Taken with the Fantasy Girls! 								\n				\n				\n				\n									\n					\n						\n									WATCH ON YOUTUBE!
URL:https://hyperxarenalasvegas.com/event/counter-strike-2-lan-10-mans-2/
LOCATION:HyperX Arena Las Vegas\, 3900 South Las Vegas Boulevard\, Las Vegas\, NV\, 89119\, United States
CATEGORIES:Special Events
ATTACH;FMTTYPE=image/jpeg:https://hyperxarenalasvegas.com/wp-content/uploads/1227_HXALV_CS210Mans_1920x1080.jpg
END:VEVENT
BEGIN:VEVENT
DTSTART;TZID=America/Los_Angeles:20251228T120000
DTEND;TZID=America/Los_Angeles:20251228T210000
DTSTAMP:20260422T144516
CREATED:20251126T235705Z
LAST-MODIFIED:20251126T235707Z
UID:10002087-1766923200-1766955600@hyperxarenalasvegas.com
SUMMARY:Come In and Play!
DESCRIPTION:NEW EPISODE OF USERNAME TAKEN!				\n				\n				\n				\n									Join us for a special episode of Username Taken with the Fantasy Girls! 								\n				\n				\n				\n									\n					\n						\n									WATCH ON YOUTUBE!
URL:https://hyperxarenalasvegas.com/event/come-in-and-play-10/
LOCATION:HyperX Arena Las Vegas\, 3900 South Las Vegas Boulevard\, Las Vegas\, NV\, 89119\, United States
CATEGORIES:Arena
ATTACH;FMTTYPE=image/jpeg:https://hyperxarenalasvegas.com/wp-content/uploads/HXALV_CalendarGraphics_OPEN.jpg
END:VEVENT
BEGIN:VEVENT
DTSTART;TZID=America/Los_Angeles:20251229T120000
DTEND;TZID=America/Los_Angeles:20251229T210000
DTSTAMP:20260422T144516
CREATED:20251127T000700Z
LAST-MODIFIED:20251127T000702Z
UID:10002088-1767009600-1767042000@hyperxarenalasvegas.com
SUMMARY:Come In and Play!
DESCRIPTION:NEW EPISODE OF USERNAME TAKEN!				\n				\n				\n				\n									Join us for a special episode of Username Taken with the Fantasy Girls! 								\n				\n				\n				\n									\n					\n						\n									WATCH ON YOUTUBE!
URL:https://hyperxarenalasvegas.com/event/come-in-and-play-11/
LOCATION:HyperX Arena Las Vegas\, 3900 South Las Vegas Boulevard\, Las Vegas\, NV\, 89119\, United States
CATEGORIES:Arena
ATTACH;FMTTYPE=image/jpeg:https://hyperxarenalasvegas.com/wp-content/uploads/HXALV_CalendarGraphics_OPEN.jpg
END:VEVENT
BEGIN:VEVENT
DTSTART;TZID=America/Los_Angeles:20251230T120000
DTEND;TZID=America/Los_Angeles:20251230T210000
DTSTAMP:20260422T144516
CREATED:20251127T000915Z
LAST-MODIFIED:20251127T000917Z
UID:10002089-1767096000-1767128400@hyperxarenalasvegas.com
SUMMARY:Come In and Play!
DESCRIPTION:NEW EPISODE OF USERNAME TAKEN!				\n				\n				\n				\n									Join us for a special episode of Username Taken with the Fantasy Girls! 								\n				\n				\n				\n									\n					\n						\n									WATCH ON YOUTUBE!
URL:https://hyperxarenalasvegas.com/event/come-in-and-play-12/
LOCATION:HyperX Arena Las Vegas\, 3900 South Las Vegas Boulevard\, Las Vegas\, NV\, 89119\, United States
CATEGORIES:Arena
ATTACH;FMTTYPE=image/jpeg:https://hyperxarenalasvegas.com/wp-content/uploads/HXALV_CalendarGraphics_OPEN.jpg
END:VEVENT
BEGIN:VEVENT
DTSTART;TZID=America/Los_Angeles:20251231T120000
DTEND;TZID=America/Los_Angeles:20251231T210000
DTSTAMP:20260422T144516
CREATED:20251201T190356Z
LAST-MODIFIED:20251201T190358Z
UID:10002091-1767182400-1767214800@hyperxarenalasvegas.com
SUMMARY:Come In and Play!
DESCRIPTION:NEW EPISODE OF USERNAME TAKEN!				\n				\n				\n				\n									Join us for a special episode of Username Taken with the Fantasy Girls! 								\n				\n				\n				\n									\n					\n						\n									WATCH ON YOUTUBE!
URL:https://hyperxarenalasvegas.com/event/come-in-and-play-14/
LOCATION:HyperX Arena Las Vegas\, 3900 South Las Vegas Boulevard\, Las Vegas\, NV\, 89119\, United States
CATEGORIES:Arena
ATTACH;FMTTYPE=image/jpeg:https://hyperxarenalasvegas.com/wp-content/uploads/HXALV_CalendarGraphics_OPEN.jpg
END:VEVENT
BEGIN:VEVENT
DTSTART;TZID=America/Los_Angeles:20260112T120000
DTEND;TZID=America/Los_Angeles:20260112T210000
DTSTAMP:20260422T144516
CREATED:20260112T201208Z
LAST-MODIFIED:20260112T201210Z
UID:10002093-1768219200-1768251600@hyperxarenalasvegas.com
SUMMARY:Come In and Play!
DESCRIPTION:NEW EPISODE OF USERNAME TAKEN!				\n				\n				\n				\n									Join us for a special episode of Username Taken with the Fantasy Girls! 								\n				\n				\n				\n									\n					\n						\n									WATCH ON YOUTUBE!
URL:https://hyperxarenalasvegas.com/event/come-in-and-play-15/
LOCATION:HyperX Arena Las Vegas\, 3900 South Las Vegas Boulevard\, Las Vegas\, NV\, 89119\, United States
CATEGORIES:Arena
ATTACH;FMTTYPE=image/jpeg:https://hyperxarenalasvegas.com/wp-content/uploads/HXALV_CalendarGraphics_OPEN.jpg
END:VEVENT
BEGIN:VEVENT
DTSTART;TZID=America/Los_Angeles:20260113T120000
DTEND;TZID=America/Los_Angeles:20260113T210000
DTSTAMP:20260422T144516
CREATED:20260112T201311Z
LAST-MODIFIED:20260112T201312Z
UID:10002094-1768305600-1768338000@hyperxarenalasvegas.com
SUMMARY:Come In and Play!
DESCRIPTION:NEW EPISODE OF USERNAME TAKEN!				\n				\n				\n				\n									Join us for a special episode of Username Taken with the Fantasy Girls! 								\n				\n				\n				\n									\n					\n						\n									WATCH ON YOUTUBE!
URL:https://hyperxarenalasvegas.com/event/come-in-and-play-16/
LOCATION:HyperX Arena Las Vegas\, 3900 South Las Vegas Boulevard\, Las Vegas\, NV\, 89119\, United States
CATEGORIES:Arena
ATTACH;FMTTYPE=image/jpeg:https://hyperxarenalasvegas.com/wp-content/uploads/HXALV_CalendarGraphics_OPEN.jpg
END:VEVENT
BEGIN:VEVENT
DTSTART;TZID=America/Los_Angeles:20260114T120000
DTEND;TZID=America/Los_Angeles:20260114T210000
DTSTAMP:20260422T144516
CREATED:20260112T202133Z
LAST-MODIFIED:20260112T202134Z
UID:10002095-1768392000-1768424400@hyperxarenalasvegas.com
SUMMARY:Come In and Play!
DESCRIPTION:NEW EPISODE OF USERNAME TAKEN!				\n				\n				\n				\n									Join us for a special episode of Username Taken with the Fantasy Girls! 								\n				\n				\n				\n									\n					\n						\n									WATCH ON YOUTUBE!
URL:https://hyperxarenalasvegas.com/event/come-in-and-play-17/
LOCATION:HyperX Arena Las Vegas\, 3900 South Las Vegas Boulevard\, Las Vegas\, NV\, 89119\, United States
CATEGORIES:Arena
ATTACH;FMTTYPE=image/jpeg:https://hyperxarenalasvegas.com/wp-content/uploads/HXALV_CalendarGraphics_OPEN.jpg
END:VEVENT
BEGIN:VEVENT
DTSTART;TZID=America/Los_Angeles:20260115T120000
DTEND;TZID=America/Los_Angeles:20260115T210000
DTSTAMP:20260422T144516
CREATED:20260112T202812Z
LAST-MODIFIED:20260112T202814Z
UID:10002096-1768478400-1768510800@hyperxarenalasvegas.com
SUMMARY:Come In and Play!
DESCRIPTION:NEW EPISODE OF USERNAME TAKEN!				\n				\n				\n				\n									Join us for a special episode of Username Taken with the Fantasy Girls! 								\n				\n				\n				\n									\n					\n						\n									WATCH ON YOUTUBE!
URL:https://hyperxarenalasvegas.com/event/come-in-and-play-18/
LOCATION:HyperX Arena Las Vegas\, 3900 South Las Vegas Boulevard\, Las Vegas\, NV\, 89119\, United States
CATEGORIES:Arena
ATTACH;FMTTYPE=image/jpeg:https://hyperxarenalasvegas.com/wp-content/uploads/HXALV_CalendarGraphics_OPEN.jpg
END:VEVENT
BEGIN:VEVENT
DTSTART;TZID=America/Los_Angeles:20260116T120000
DTEND;TZID=America/Los_Angeles:20260116T210000
DTSTAMP:20260422T144516
CREATED:20260112T203141Z
LAST-MODIFIED:20260114T000644Z
UID:10002097-1768564800-1768597200@hyperxarenalasvegas.com
SUMMARY:Come In and Play!
DESCRIPTION:NEW EPISODE OF USERNAME TAKEN!				\n				\n				\n				\n									Join us for a special episode of Username Taken with the Fantasy Girls! 								\n				\n				\n				\n									\n					\n						\n									WATCH ON YOUTUBE!
URL:https://hyperxarenalasvegas.com/event/frags-ft-fortnite/
LOCATION:HyperX Arena Las Vegas\, 3900 South Las Vegas Boulevard\, Las Vegas\, NV\, 89119\, United States
CATEGORIES:Arena
ATTACH;FMTTYPE=image/jpeg:https://hyperxarenalasvegas.com/wp-content/uploads/HXALV_CalendarGraphics_OPEN.jpg
END:VEVENT
BEGIN:VEVENT
DTSTART;TZID=America/Los_Angeles:20260117T170000
DTEND;TZID=America/Los_Angeles:20260117T220000
DTSTAMP:20260422T144516
CREATED:20260112T204701Z
LAST-MODIFIED:20260112T205138Z
UID:10002098-1768669200-1768687200@hyperxarenalasvegas.com
SUMMARY:Speedway ft. Mario Kart
DESCRIPTION:NEW EPISODE OF USERNAME TAKEN!				\n				\n				\n				\n									Join us for a special episode of Username Taken with the Fantasy Girls! 								\n				\n				\n				\n									\n					\n						\n									WATCH ON YOUTUBE!
URL:https://hyperxarenalasvegas.com/event/speedway-ft-mario-kart/
LOCATION:HyperX Arena Las Vegas\, 3900 South Las Vegas Boulevard\, Las Vegas\, NV\, 89119\, United States
CATEGORIES:Speedway
ATTACH;FMTTYPE=image/jpeg:https://hyperxarenalasvegas.com/wp-content/uploads/HXALV_SpeedwayGameNight_General_1920x1080-11.jpg
END:VEVENT
END:VCALENDAR